BEGIN:VCALENDAR
VERSION:2.0
PRODID:-//wp-events-plugin.com//7.2.3.1//EN
TZID:America/Chicago
X-WR-TIMEZONE:America/Chicago
BEGIN:VEVENT
UID:67@midwestawma.org
DTSTART;TZID=America/Chicago:20191205T120000
DTEND;TZID=America/Chicago:20191205T140000
DTSTAMP:20191112T210636Z
URL:https://midwestawma.org/events/webinar-pfas-measuring-emissions-atmosp
 heric-monitoring-deposition-modeling-control-techniques-managing-impacts/
SUMMARY:Webinar:  PFAS - Measuring Emissions\, Atmospheric Monitoring\, Dep
 osition Modeling\, Control Techniques\, & Managing Impacts
DESCRIPTION:[open_location_map]\n\n[ics_download]\n\nA&amp\;WMA Midwest Sec
 tion will be hosting this A&amp\;WMA national webinar.  By attending this
 \, you don’t need to pay the $169 member or $229 nonmember price.\n\n&nb
 sp\;\n\nWith the discovery of Poly- and Perfluorinated Alkyl Substances (P
 FAS) in the environment\, and impacts on adjacent drinking water sources i
 n several areas of the United States\, more attention has been focused on 
 understanding their sources\, fate and human exposure. Many states have ta
 ken recent actions to investigate and/or regulate PFAS. In February 2019\,
  EPA released an Action Plan that describes the EPA’s approach to identi
 fying and understanding PFAS.\n\nThis webinar will be solutions-oriented f
 ocused on the air component of the PFAS releases. The speakers will discus
 s emission testing for PFAS\, air quality modeling and deposition\, ambien
 t sampling\, and compliance. In addition\, the speakers will provide infor
 mation regarding state and EPA actions or planned actions that will impact
  air quality assessments and other air quality related PFAS topics.\n\nMor
 e information from A&amp\;WMA\, including the presenters.\n\nLunch will be
  provided.\n\n&nbsp\;\n\n&nbsp\;\n\n&nbsp\;\n\n
CATEGORIES:Webinar
LOCATION:SCS Engineers\, 8575 W 110th Street\, Suite 100\, Overland Park\, 
 KS\, 66210\, United States
GEO:38.928802;-94.68242
X-APPLE-STRUCTURED-LOCATION;VALUE=URI;X-ADDRESS=8575 W 110th Street\, Suite
  100\, Overland Park\, KS\, 66210\, United States;X-APPLE-RADIUS=100;X-TIT
 LE=SCS Engineers:geo:38.928802,-94.68242
END:VEVENT
BEGIN:VTIMEZONE
TZID:America/Chicago
X-LIC-LOCATION:America/Chicago
BEGIN:STANDARD
DTSTART:20191103T010000
TZOFFSETFROM:-0500
TZOFFSETTO:-0600
TZNAME:CST
END:STANDARD
END:VTIMEZONE
END:VCALENDAR