BEGIN:VCALENDAR
VERSION:2.0
PRODID:-//wp-events-plugin.com//7.2.3.1//EN
TZID:America/Chicago
X-WR-TIMEZONE:America/Chicago
BEGIN:VEVENT
UID:76@midwestawma.org
DTSTART;TZID=America/Chicago:20200304T120000
DTEND;TZID=America/Chicago:20200304T140000
DTSTAMP:20200213T151838Z
URL:https://midwestawma.org/events/webinar-more-ldar-pitfalls-keeping-the-
 program-afloat/
SUMMARY:Webinar:  More LDAR Pitfalls - Keeping the Program Afloat
DESCRIPTION:[open_location_map]\n\n[ics_download]\n\nA&amp\;WMA Midwest Sec
 tion will be hosting this A&amp\;WMA national webinar.  By attending this
 \, you don’t need to pay the $169 member or $229 nonmember price.\n\nLea
 k Detection and Repair (LDAR) has more opportunities for non-compliance th
 an any other environmental program. Join us in this follow-up to the first
  LDAR Pitfall webinar the Association presented in late 2019 for more impo
 rtant details on how to avoid the six danger zones in your compliance prog
 ram. A team of LDAR professionals will present on current issues including
  calibration drift\, delay of repair\, leaving an audit trail\, and progra
 m management tips to help with employee turnover.\n\nMore information from
  A&amp\;WMA\, including the presenters.\n\nPlease arrive at 11:45 am to ge
 t through security.  Lunch will be provided.\n\n&nbsp\;\n\n&nbsp\;\n\n&nb
 sp\;\n\n
CATEGORIES:Webinar
LOCATION:Harcros Chemicals Inc.\, 5200 Speaker Road\, Kansas City\, KS\, 66
 106\, United States
GEO:39.095959;-94.69711
X-APPLE-STRUCTURED-LOCATION;VALUE=URI;X-ADDRESS=5200 Speaker Road\, Kansas 
 City\, KS\, 66106\, United States;X-APPLE-RADIUS=100;X-TITLE=Harcros Chemi
 cals Inc.:geo:39.095959,-94.69711
END:VEVENT
BEGIN:VTIMEZONE
TZID:America/Chicago
X-LIC-LOCATION:America/Chicago
BEGIN:STANDARD
DTSTART:20191103T010000
TZOFFSETFROM:-0500
TZOFFSETTO:-0600
TZNAME:CST
END:STANDARD
END:VTIMEZONE
END:VCALENDAR