BEGIN:VCALENDAR
VERSION:2.0
PRODID:-//wp-events-plugin.com//7.2.3.1//EN
TZID:America/Chicago
X-WR-TIMEZONE:America/Chicago
BEGIN:VEVENT
UID:60@midwestawma.org
DTSTART;TZID=America/Chicago:20191114T120000
DTEND;TZID=America/Chicago:20191114T133000
DTSTAMP:20191113T160232Z
URL:https://midwestawma.org/events/webinar-how-to-avoid-ldar-compliance-pi
 tfalls/
SUMMARY:Webinar:  How to Avoid LDAR Compliance Pitfalls
DESCRIPTION:[open_location_map]\n\n[ics_download]\n\nA&amp\;WMA Midwest Sec
 tion will be hosting this A&amp\;WMA national webinar.  By attending this
 \, you don’t need to pay the $99 member or $149 nonmember price.\n\nLeak
  Detection and Repair (LDAR) has more opportunities for non-compliance tha
 n any other environmental area.  This webinar will offer attendees the op
 portunity to learn about the most common and unusual compliance pitfalls i
 n this area.  Highly experienced presenters who have worked in every phas
 e of LDAR from monitoring technician to site supervisor to area manager to
  corporate quality assurance will identify 6 danger zone areas and highlig
 ht both the problems and solutions to work around them.\n\nPresenters will
  lead an interactive discussion on working with fugitive emissions before 
 M21 and NSPSVV and reveal the secret to why certain parts of Method 21 wer
 e written the way they were.\n\nDon’t let your LDAR program go down the 
 drain. Take advantage of this webinar opportunity to learn how to best run
  an LDAR program\, have some fun\, and avoid future compliance pitfalls.\n
 \nMore information from A&amp\;WMA\, including the presenters.\n\nPlease a
 rrive at 11:45 am to get through security.  Lunch will be provided.\n\n&n
 bsp\;\n\n&nbsp\;\n\n&nbsp\;\n\n
CATEGORIES:Webinar
LOCATION:Harcros Chemicals Inc.\, 5200 Speaker Road\, Kansas City\, KS\, 66
 106\, United States
GEO:39.095959;-94.69711
X-APPLE-STRUCTURED-LOCATION;VALUE=URI;X-ADDRESS=5200 Speaker Road\, Kansas 
 City\, KS\, 66106\, United States;X-APPLE-RADIUS=100;X-TITLE=Harcros Chemi
 cals Inc.:geo:39.095959,-94.69711
END:VEVENT
BEGIN:VTIMEZONE
TZID:America/Chicago
X-LIC-LOCATION:America/Chicago
BEGIN:STANDARD
DTSTART:20191103T010000
TZOFFSETFROM:-0500
TZOFFSETTO:-0600
TZNAME:CST
END:STANDARD
END:VTIMEZONE
END:VCALENDAR