BEGIN:VCALENDAR
VERSION:2.0
PRODID:-//wp-events-plugin.com//7.2.3.1//EN
TZID:America/Chicago
X-WR-TIMEZONE:America/Chicago
BEGIN:VEVENT
UID:139@midwestawma.org
DTSTART;TZID=America/Chicago:20230920T113000
DTEND;TZID=America/Chicago:20230920T130000
DTSTAMP:20230909T231641Z
URL:https://midwestawma.org/events/sep2023_btg/
SUMMARY:A&WMA ONLINE: Sept 2023 Monthly Meeting - Bridging the Gap: "The Tr
 easure of Our Trees"
DESCRIPTION:Program details\nTrees deliver higher air quality in our region
 —but so much more than that!\n\n 	How can a tree rooted on a street corn
 er pay for itself many times over?\n 	Can a tree really make you heal fast
 er after surgery?\n 	Improve your mental health?\n 	Help to solve climate 
 change?\n\nJoin Kristin Riott\, executive director of Kansas City’s envi
 ronmental group Bridging The Gap\, for this session on the almost incredib
 le value of trees in our community.\n\n11:30am - Presentation via Zoom\n\n
 Login information will be sent to participants 1 day prior to the event.\n
 \n\n\nOnly online payments are being accepted at this time.\n\n\n\nPlease 
 select only one Ticket Type.  If you need to register more than one perso
 n\, register each separately.
ATTACH;FMTTYPE=image/jpeg:https://midwestawma.org/wp-content/uploads/2023/
 08/tree1.jpg
CATEGORIES:Monthly Meetings
END:VEVENT
BEGIN:VTIMEZONE
TZID:America/Chicago
X-LIC-LOCATION:America/Chicago
BEGIN:DAYLIGHT
DTSTART:20230312T030000
TZOFFSETFROM:-0600
TZOFFSETTO:-0500
TZNAME:CDT
END:DAYLIGHT
END:VTIMEZONE
END:VCALENDAR