BEGIN:VCALENDAR
VERSION:2.0
PRODID:-//wp-events-plugin.com//7.2.3.1//EN
TZID:America/Chicago
X-WR-TIMEZONE:America/Chicago
BEGIN:VEVENT
UID:83@midwestawma.org
DTSTART;TZID=America/Chicago:20200624T103000
DTEND;TZID=America/Chicago:20200624T120000
DTSTAMP:20200617T151703Z
URL:https://midwestawma.org/events/online-june-2020-monthly-meeting-ehs-co
 mpliance-during-covid-19/
SUMMARY:A&WMA ONLINE: June 2020 Monthly Meeting - EH&S Compliance During CO
 VID-19
DESCRIPTION:Program details\n10:30 am - Presentation via WebEx\n\nLogin inf
 ormation will be sent to participants 1 day prior to the event.\nEnvironme
 ntal\, Health\, and Safety Compliance During COVID-19:\nDavid Peal (Rambol
 l) and Paul Jacobson (Spencer Fane) will discuss environmental\, health\, 
 and safety compliance verification during COVID-19\, including innovative 
 technologies that assist in auditing\, use of agency flexibility during CO
 VID-19\, use of agency self-disclosure protections\, and more.\nDavid Peal
 \, Managing Consultant\, Ramboll\nDavid Peal is a Managing Consultant in R
 amboll’s Kansas City office.  David performs environmental\, health\, a
 nd safety audits for manufacturing\, logistic\, food and beverage\, and ot
 her industrial clients.  David also manages global audit programs for Ram
 boll.\nPaul Jacobson\, Attorney\, Spencer Fane\n\nPaul Jacobson is an atto
 rney in Spencer Fane’s Kansas City office.  Paul helps clients with a w
 ide range of environmental\, health\, and safety challenges\, including re
 gulatory work with state and federal agencies\, litigation\, and complianc
 e counseling.\n\n&nbsp\;\n\n\n\nOnly online payments are being accepted at
  this time.\n\n\n\nPlease select only one Ticket Type.  If you need to re
 gister more than one person\, register each separately.
CATEGORIES:Monthly Meetings
END:VEVENT
BEGIN:VTIMEZONE
TZID:America/Chicago
X-LIC-LOCATION:America/Chicago
BEGIN:DAYLIGHT
DTSTART:20200308T030000
TZOFFSETFROM:-0600
TZOFFSETTO:-0500
TZNAME:CDT
END:DAYLIGHT
END:VTIMEZONE
END:VCALENDAR