BEGIN:VCALENDAR
VERSION:2.0
PRODID:-//wp-events-plugin.com//7.2.3.1//EN
TZID:America/Chicago
X-WR-TIMEZONE:America/Chicago
BEGIN:VEVENT
UID:81@midwestawma.org
DTSTART;TZID=America/Chicago:20200429T103000
DTEND;TZID=America/Chicago:20200429T120000
DTSTAMP:20200417T210037Z
URL:https://midwestawma.org/events/online-april-2020-monthly-meeting-the-k
 ansas-river-protect-advocate-discover/
SUMMARY:ONLINE: April 2020 Monthly Meeting - The Kansas River: Protect\, Ad
 vocate\, & Discover
DESCRIPTION:Program details\n10:30 am - Presentation via WebEx\n\nLogin inf
 ormation will be sent to participants 1 day prior to the event.\nThe Kansa
 s River - Protect\, Advocate\, &amp\; Discover:\nThe Kansas River is the l
 ongest prairie-based river in the world.  The river drains 61\,000 square
  miles including the upper half of Kansas\, central Nebraska and eastern C
 olorado.  Friends of the Kaw is the only non-profit dedicated to protecti
 ng and preserving the 173-mile long river.  Join Dawn Buehler\, the Kansa
 s Riverkeeper and Executive Director with Friends of the Kaw\, to learn ab
 out their work for the river.\n\n&nbsp\;\n\n&nbsp\;\nDawn Buehler\, Kansas
  Riverkeeper &amp\; Executive Director\, Friends of the Kaw\nDawn Buehler 
 is the Kansas Riverkeeper and Executive Director with Friends of the Kaw.
   In her role as the Kansas Riverkeeper\, Dawn is a non-governmental pub
 lic advocate that works to protect and preserve the Kansas River. This is
  accomplished through holding the community accountable for the health of
  the river\, working to resolve pollution concerns about the river\, advoc
 ating for the Kansas River and its environs\, educating the public\, and 
 providing outreach activities to get people involved in the river.\n\nDawn
  holds a Bachelor of Science in Natural Resources\, Fish and Wildlife Con
 servation from Oregon State University and a Bachelor in Business Administ
 ration from Baker University.   Dawn serves on the Kansas Basin Regiona
 l Advisory Committee for the Kansas Water Vision and is the Governor’s A
 ppointee for the Oil &amp\; Gas Advisory Committee.  Dawn is also active 
 on the Board of Directors for the Kansas Land Trust and the Board of Direc
 tors for Kansas Alliance for Wetlands and Streams.\n\n&nbsp\;\n\n\n\nOnly 
 online payments are being accepted at this time.\n\n\n\n\nPlease select on
 ly one Ticket Type.  If you need to register more than one person\, regis
 ter each separately.
CATEGORIES:Monthly Meetings
END:VEVENT
BEGIN:VTIMEZONE
TZID:America/Chicago
X-LIC-LOCATION:America/Chicago
BEGIN:DAYLIGHT
DTSTART:20200308T030000
TZOFFSETFROM:-0600
TZOFFSETTO:-0500
TZNAME:CDT
END:DAYLIGHT
END:VTIMEZONE
END:VCALENDAR