BEGIN:VCALENDAR
VERSION:2.0
PRODID:-//wp-events-plugin.com//7.2.3.1//EN
TZID:America/Chicago
X-WR-TIMEZONE:America/Chicago
BEGIN:VEVENT
UID:22@midwestawma.org
DTSTART;TZID=America/Chicago:20181010T073000
DTEND;TZID=America/Chicago:20181010T093000
DTSTAMP:20180926T191918Z
URL:https://midwestawma.org/events/oct2018-monthly-epa-transparancy/
SUMMARY:Clear as Mud: EPA’s “Transparency” Rule may have clouded cons
 equences (October 2018 Monthly Meeting)
DESCRIPTION:[open_location_map]\n\n[ics_download]\n\nProgram Details\n\nDav
 e Erickson\, of Shook\, Hardy &amp\; Bacon\, will present and answer quest
 ions about EPA's "Transparency" Rule.\n\nIn an effort to boost transparenc
 y\, the Environmental Protection Agency plans to place restrictions on the
  research it will consider in developing regulations. The new rule will ex
 clude scientific studies that are not publicly available in a manner suffi
 cient for independent validation. The move prompted an uproar from scienti
 sts who are concerned that the rule may undermine the EPA’s ability to p
 rotect public health.\n\n\n\n\nIf you are paying by check\, select Pay at 
 the door.  Please bring your check to the meeting.\n\n\n\nPlease select 
 only one Ticket Type.  If you need to register more than one person\, reg
 ister each separately.
ATTACH;FMTTYPE=image/jpeg:https://midwestawma.org/wp-content/uploads/2018/
 01/mrcc-front.jpg
CATEGORIES:Monthly Meetings
LOCATION:Matt Ross Community Center\, 8101 Marty Street\, Overland Park\, K
 S\, 66204\, United States
GEO:38.9822845;-94.66922260000001
X-APPLE-STRUCTURED-LOCATION;VALUE=URI;X-ADDRESS=8101 Marty Street\, Overlan
 d Park\, KS\, 66204\, United States;X-APPLE-RADIUS=100;X-TITLE=Matt Ross C
 ommunity Center:geo:38.9822845,-94.66922260000001
END:VEVENT
BEGIN:VTIMEZONE
TZID:America/Chicago
X-LIC-LOCATION:America/Chicago
BEGIN:DAYLIGHT
DTSTART:20180311T030000
TZOFFSETFROM:-0600
TZOFFSETTO:-0500
TZNAME:CDT
END:DAYLIGHT
END:VTIMEZONE
END:VCALENDAR