BEGIN:VCALENDAR
VERSION:2.0
PRODID:-//wp-events-plugin.com//7.2.3.1//EN
TZID:America/Chicago
X-WR-TIMEZONE:America/Chicago
BEGIN:VEVENT
UID:140@midwestawma.org
DTSTART;TZID=America/Chicago:20231106T154500
DTEND;TZID=America/Chicago:20231106T180000
DTSTAMP:20231030T162340Z
URL:https://midwestawma.org/events/oct-2023-urbavore/
SUMMARY:October 2023 Monthly Meeting - URBAVORE Farm Tour and Compost Activ
 ity
DESCRIPTION:Program details\n\n&nbsp\;\nURBAVORE Urban Farm Tour and Compos
 t Activity:\n*NOTE: This event has been rescheduled to Monday\, 11/6\, at 
 4 PM due to the weather conditions.\n\nURBAVORE Urban Farm is the largest\
 , longest standing urban farm in Kansas City. The farm produces vegetables
 \, fruits\, pastured eggs &amp\; pork using regenerative farming practices
  that go far beyond organic standards. Holistic systems for waste\, water\
 , energy\, and shelter provide a breeding ground for community and ecology
  right here in KC’s urban core.\n\nTour the farm and see the autumns cro
 p fields\, the free-ranging chickens\, and the robust (always rambunctious
 ) heritage hogs. Learn about URBAVORE’s alternative infrastructure and c
 ommitment to ecological solutions to mitigate climate change in an urban s
 etting. See their composting site where 20\,00 pounds of food waste are di
 verted from the landfill each week and turned into nutrient-rich soil to b
 e spread on the farm’s fields.\n\nOptional activity: After a tour and Q 
 &amp\; A\, participants will have the opportunity to get their hands dirty
  sifting finished compost and bagging it. Participants are welcome to take
  compost home for their own gardens and potted plants!\n\nLearn more here:
  https://www.urbavorefarm.com/\n\nNote this event has a firm limit of 40 a
 ttendees.\n\nPlease contact A&amp\;WMA ASAP if you cannot attend after reg
 istering\; We will issue you a refund.\n\nThe tour starts promptly at 4 PM
 . Please arrive by 3:45 PM to sign in.\n\nMeet at 5500 Bennington Ave Kans
 as City\, Missouri.\n\n\n\nIf you are paying by check\, select Pay at the 
 door.  Please bring your check to the meeting.\n\n\n\nPlease select only
  one Ticket Type.  If you need to register more than one person\, registe
 r each separately.
CATEGORIES:Monthly Meetings,Social Events
LOCATION:URBAVORE Urban Farm\, 5500 Bennington Ave\,\, Kansas City\,\, MO\,
 \, 64129\, United States
X-APPLE-STRUCTURED-LOCATION;VALUE=URI;X-ADDRESS=5500 Bennington Ave\,\, Kan
 sas City\,\, MO\,\, 64129\, United States;X-APPLE-RADIUS=100;X-TITLE=URBAV
 ORE Urban Farm:geo:0,0
END:VEVENT
BEGIN:VTIMEZONE
TZID:America/Chicago
X-LIC-LOCATION:America/Chicago
BEGIN:STANDARD
DTSTART:20231105T010000
TZOFFSETFROM:-0500
TZOFFSETTO:-0600
TZNAME:CST
END:STANDARD
END:VTIMEZONE
END:VCALENDAR