BEGIN:VCALENDAR
VERSION:2.0
PRODID:-//wp-events-plugin.com//7.2.3.1//EN
TZID:America/Chicago
X-WR-TIMEZONE:America/Chicago
BEGIN:VEVENT
UID:130@midwestawma.org
DTSTART;TZID=America/Chicago:20221112T083000
DTEND;TZID=America/Chicago:20221112T120000
DTSTAMP:20221109T155829Z
URL:https://midwestawma.org/events/november-2022-ahmp-parkville/
SUMMARY:RESCHEDULED - November 12 Joint Event with AHMP Heartland Chapter -
  Parkville Nature Sanctuary
DESCRIPTION:Event details\nJoin Heartland AHMP and Midwest A&amp\;WMA for a
  joint event on November 12\, rescheduled due to rain from November 5. The
  Heartland Chapter is implementing its annual community service project to
  promote environmental awareness or benefit a local environmental cause. T
 he 2022 event is a morning of volunteerism at the Parkville Nature Sanctua
 ry.\n\nRSVPS: Please contact Chapter President Ed Hubert at Edward.Hubert@
 gsa.gov if you are able to attend!\n\nParkville Nature Sanctuary Service P
 roject:\n\nCalling all volunteers to join us at the Parkville Nature Sanct
 uary\, a 115-acre wooded natural area located at 100 E 12th Street in Park
 ville\, MO on Saturday\, November 5th for a morning of community service.
 \n\nWe will gather at 8:30 AM and work until noon\, helping with trail mai
 ntenance and pedestrian bridge repair. Lunch will follow at a location of 
 choice in Parkville.\n\nOur group will gather in the sanctuary parking lot
 \, located just east of the Platte County Health Department office and jus
 t north of the Park University soccer fields at 8:30 AM. If you arrive aft
 er 8:30 and we have already left the parking lot\, please contact Ed Huber
 t via telephone at 816-304-3909 and he will direct you to our work locatio
 n.\n\nAll necessary tools and equipment will be provided. Please check the
  weather and wear clothing appropriate for outdoor work that day. Gloves a
 re suggested. All Heartland Chapter members\, friends\, colleagues\, and 
 family members of all ages are welcome to participate.\n\n
CATEGORIES:Monthly Meetings
LOCATION:Parkville Nature Sanctuary\, 100 E 12 St\, Parkville\, MO\, 64152\
 , United States
X-APPLE-STRUCTURED-LOCATION;VALUE=URI;X-ADDRESS=100 E 12 St\, Parkville\, M
 O\, 64152\, United States;X-APPLE-RADIUS=100;X-TITLE=Parkville Nature Sanc
 tuary:geo:0,0
END:VEVENT
BEGIN:VTIMEZONE
TZID:America/Chicago
X-LIC-LOCATION:America/Chicago
BEGIN:STANDARD
DTSTART:20221106T010000
TZOFFSETFROM:-0500
TZOFFSETTO:-0600
TZNAME:CST
END:STANDARD
END:VTIMEZONE
END:VCALENDAR