BEGIN:VCALENDAR
VERSION:2.0
PRODID:-//wp-events-plugin.com//7.2.3.1//EN
TZID:America/Chicago
X-WR-TIMEZONE:America/Chicago
BEGIN:VEVENT
UID:56@midwestawma.org
DTSTART;TZID=America/Chicago:20191113T073000
DTEND;TZID=America/Chicago:20191113T093000
DTSTAMP:20191113T155944Z
URL:https://midwestawma.org/events/november-2019-monthly-meeting-drones-wh
 en-where-and-how-to-use-them-for-environmental-problem-solving/
SUMMARY:November 2019 Monthly Meeting - Drones: When\, Where\, and How to U
 se Them for Environmental Problem Solving!
DESCRIPTION:[open_location_map]\n\n[ics_download]\nProgram details\n&nbsp\;
 \nDrones: When\, Where\, and How to Use Them for Environmental Problem Sol
 ving!:\nFor this talk\, Mike Rawitch will be discussing considerations for
  utilizing drones in environmental problem solving. Specifically\, the pro
 gram will provide information on the regulations surrounding drones\, indu
 stry trends\, considerations for drone usage\, basic drone science\, and a
  brief flight demonstration (weather permitting). Please join us to learn 
 about this emerging technological field as it applies to environmental wor
 k.\n\n&nbsp\;\nMike Rawitch\, Senior Consultant\, Ramboll\nMike Rawitch is
  a geologist and geographer specializing in the implementation of geospati
 al technologies to optimize environmental problem solving. As a Senior Con
 sultant at Ramboll\, his focus is on remotely sensed data analysis\, coll
 ection and visualization applied to environmental sites. Mike is an Inter
 state Technology and Regulatory Council (ITRC) team member and is a co-aut
 hor on the ITRC Chapter for Advanced Site Characterization Tools. He is al
 so a certified FAA Remote Pilot and is a senior Unmanned Aerial System (UA
 S) operator within the Ramboll Environment &amp\; Health Drone Program. Cu
 rrently\, Mike serves as the Operations Director of Ramboll AI. Born out o
 f the Ramboll Innovation Accelerator\, Ramboll AI uses drones and image an
 alysis to understand environmental site conditions\, reduce uncertainty\, 
 and help efficiently characterize and remediate environmental sites.\n\n&n
 bsp\;\n\nhttp://edwardscampus.ku.edu/campus-map/\n\n\n\nIf you are paying 
 by check\, select Pay at the door.  Please bring your check to the meeti
 ng.\n\n\n\nPlease select only one Ticket Type.  If you need to register m
 ore than one person\, register each separately.
ATTACH;FMTTYPE=image/jpeg:https://midwestawma.org/wp-content/uploads/2017/
 11/KU-Edwards-Campus-e1514489553877.png
CATEGORIES:Monthly Meetings
LOCATION:KU - Edwards Campus - BEST Bldg.\, Room 330\, 12600 S. Quivira Roa
 d\, Overland Park\, KS\, 66213\, United States
GEO:38.8996467;-94.72612019999997
X-APPLE-STRUCTURED-LOCATION;VALUE=URI;X-ADDRESS=12600 S. Quivira Road\, Ove
 rland Park\, KS\, 66213\, United States;X-APPLE-RADIUS=100;X-TITLE=KU - Ed
 wards Campus - BEST Bldg.\, Room 330:geo:38.8996467,-94.72612019999997
END:VEVENT
BEGIN:VTIMEZONE
TZID:America/Chicago
X-LIC-LOCATION:America/Chicago
BEGIN:STANDARD
DTSTART:20191103T010000
TZOFFSETFROM:-0500
TZOFFSETTO:-0600
TZNAME:CST
END:STANDARD
END:VTIMEZONE
END:VCALENDAR