BEGIN:VCALENDAR
VERSION:2.0
PRODID:-//wp-events-plugin.com//7.2.3.1//EN
TZID:America/Chicago
X-WR-TIMEZONE:America/Chicago
BEGIN:VEVENT
UID:27@midwestawma.org
DTSTART;TZID=America/Chicago:20181114T073000
DTEND;TZID=America/Chicago:20181114T093000
DTSTAMP:20181029T174211Z
URL:https://midwestawma.org/events/nov2018_soil_human/
SUMMARY:November 2018 Monthly Meeting - Soil and Human Impacts
DESCRIPTION:basic soil processes\, how humans are impacting these processes
 \, and possible solutions for remediating soil degradation
ATTACH;FMTTYPE=image/jpeg:https://midwestawma.org/wp-content/uploads/2017/
 11/KU-Edwards-Campus-e1514489553877.png
CATEGORIES:Monthly Meetings
LOCATION:KU - Edwards Campus - BEST Bldg.\, Room 330\, 12600 S. Quivira Roa
 d\, Overland Park\, KS\, 66213\, United States
GEO:38.8996467;-94.72612019999997
X-APPLE-STRUCTURED-LOCATION;VALUE=URI;X-ADDRESS=12600 S. Quivira Road\, Ove
 rland Park\, KS\, 66213\, United States;X-APPLE-RADIUS=100;X-TITLE=KU - Ed
 wards Campus - BEST Bldg.\, Room 330:geo:38.8996467,-94.72612019999997
END:VEVENT
BEGIN:VTIMEZONE
TZID:America/Chicago
X-LIC-LOCATION:America/Chicago
BEGIN:STANDARD
DTSTART:20181104T010000
TZOFFSETFROM:-0500
TZOFFSETTO:-0600
TZNAME:CST
END:STANDARD
END:VTIMEZONE
END:VCALENDAR