BEGIN:VCALENDAR
VERSION:2.0
PRODID:-//wp-events-plugin.com//7.2.3.1//EN
TZID:America/Chicago
X-WR-TIMEZONE:America/Chicago
BEGIN:VEVENT
UID:24@midwestawma.org
DTSTART;TZID=America/Chicago:20181012T080000
DTEND;TZID=America/Chicago:20181012T163000
DTSTAMP:20180905T181644Z
URL:https://midwestawma.org/events/mowaste_lnapl/
SUMMARY:Missouri Waste Control Coalition -- Light Non-Aqueous Phase Liquids
  (LNAPL) Update: an ITRC Training Seminar
DESCRIPTION:\n\n\n\n\n\n\n\n\nThe Missouri Waste Control Coalition is proud
  to bring the LNAPL Update Team of ITRC to St. Louis\, MO for this one-day
  seminar. This program is presented by nationally recognized state and ind
 ustry leaders in project management\, remediation\, geology\, and hydrogeo
 logy.\n\n\nSince 2007\, ITRC has been a national leader in producing techn
 ical and regulatory guidance documents and training courses focused on the
  assessment and remediation of light non‐aqueous phase liquid (LNAPL) co
 ntaminated sites. With the advancement of science and lessons learned\, th
 e curriculum of the ITRC LNAPL classroom training course has reached a poi
 nt such that there is more new science presented than what was captured in
  the original ITRC LNAPL documents. The LNAPL Update team has developed a 
 comprehensive\, up‐to date web‐based guidance document that captures r
 elevant historic information\, incorporates advanced strategies and approa
 ches developed in recent years\, and includes case studies/lessons learned
  for the assessment and management of LNAPL contaminated sites.  This sem
 inar reviews the guidance document and provides information on the use of 
 the document.\n\n\n\n\n\n\n\n\nFor more information and to register\, go t
 o:\n\nhttp://www.mowastecoalition.org/page-1796912
CATEGORIES:External
LOCATION:The Engineers Club of St. Louis\, 4359 Lindell Blvd.\, St. Louis\,
  MO\, 63108\, United States
GEO:38.6416932;-90.2525063
X-APPLE-STRUCTURED-LOCATION;VALUE=URI;X-ADDRESS=4359 Lindell Blvd.\, St. Lo
 uis\, MO\, 63108\, United States;X-APPLE-RADIUS=100;X-TITLE=The Engineers 
 Club of St. Louis:geo:38.6416932,-90.2525063
END:VEVENT
BEGIN:VTIMEZONE
TZID:America/Chicago
X-LIC-LOCATION:America/Chicago
BEGIN:DAYLIGHT
DTSTART:20180311T030000
TZOFFSETFROM:-0600
TZOFFSETTO:-0500
TZNAME:CDT
END:DAYLIGHT
END:VTIMEZONE
END:VCALENDAR