BEGIN:VCALENDAR
VERSION:2.0
PRODID:-//wp-events-plugin.com//7.2.3.1//EN
TZID:America/Chicago
X-WR-TIMEZONE:America/Chicago
BEGIN:VEVENT
UID:44@midwestawma.org
DTSTART;TZID=America/Chicago:20190520T100000
DTEND;TZID=America/Chicago:20190520T150000
DTSTAMP:20190412T184355Z
URL:https://midwestawma.org/events/mowaste_itrc_dnapl/
SUMMARY:Missouri Waste Control Coalition:  Integrated DNAPL Site Strategies
  Training Program
DESCRIPTION:The Missouri Waste Control Coalition is pleased to bring ITRC
 ’s DNAPL Team to Kansas City’s Kauffman Conference Center in Kansas Ci
 ty\, MO for this half-day seminar. This program is presented by nationally
  recognized state and industry leaders in project management\, remediation
 \, geology\, and hydrogeology.
CATEGORIES:External
LOCATION:Ewing Marion Kauffman Foundation Conference Center\, 4801 Rockhill
  Rd\, Kansas City\, MO\, 64110\, United States
GEO:39.0393974;-94.57707260000001
X-APPLE-STRUCTURED-LOCATION;VALUE=URI;X-ADDRESS=4801 Rockhill Rd\, Kansas C
 ity\, MO\, 64110\, United States;X-APPLE-RADIUS=100;X-TITLE=Ewing Marion K
 auffman Foundation Conference Center:geo:39.0393974,-94.57707260000001
END:VEVENT
BEGIN:VTIMEZONE
TZID:America/Chicago
X-LIC-LOCATION:America/Chicago
BEGIN:DAYLIGHT
DTSTART:20190310T030000
TZOFFSETFROM:-0600
TZOFFSETTO:-0500
TZNAME:CDT
END:DAYLIGHT
END:VTIMEZONE
END:VCALENDAR