BEGIN:VCALENDAR
VERSION:2.0
PRODID:-//wp-events-plugin.com//7.2.3.1//EN
TZID:America/Chicago
X-WR-TIMEZONE:America/Chicago
BEGIN:VEVENT
UID:99@midwestawma.org
DTSTART;TZID=America/Chicago:20201028T163000
DTEND;TZID=America/Chicago:20201028T180000
DTSTAMP:20201014T192542Z
URL:https://midwestawma.org/events/midwest-awma-october-2020-networking-ev
 ent/
SUMMARY:Midwest A&WMA October 2020 Networking Event
DESCRIPTION:\n\nThe A&amp\;WMA Midwest Section invites you to join us for a
  Virtual Networking Event!  Join other environmental professionals for th
 is fun social and networking event - feel free to bring a beverage to enjo
 y during the Zoom Call. You don't need to be an A&amp\;WMA member to atten
 d.\n\nLogin information will be sent 1 day ahead of the event.\n\n&nbsp\;
CATEGORIES:Social Events
LOCATION:https://midwestawma.org
END:VEVENT
BEGIN:VTIMEZONE
TZID:America/Chicago
X-LIC-LOCATION:America/Chicago
BEGIN:DAYLIGHT
DTSTART:20200308T030000
TZOFFSETFROM:-0600
TZOFFSETTO:-0500
TZNAME:CDT
END:DAYLIGHT
END:VTIMEZONE
END:VCALENDAR