BEGIN:VCALENDAR
VERSION:2.0
PRODID:-//wp-events-plugin.com//7.2.3.1//EN
TZID:America/Chicago
X-WR-TIMEZONE:America/Chicago
BEGIN:VEVENT
UID:78@midwestawma.org
DTSTART;TZID=America/Chicago:20200611T170000
DTEND;TZID=America/Chicago:20200611T190000
DTSTAMP:20200513T174712Z
URL:https://midwestawma.org/events/midwest-awma-2020-summer-social/
SUMMARY:POSTPONED Midwest A&WMA 2020 Summer Social
DESCRIPTION:\n\n&nbsp\;\nPOSTPONED:\nCheck back. We'll reschedule if the co
 ronavirus situation improves. If not\, maybe next year.\n&nbsp\;
CATEGORIES:Social Events
LOCATION:Brewbakers Bar & Grill\, 9482 Renner Blvd\, Lenexa\, KS\, 66219\, 
 United States
GEO:38.956952;-94.780632
X-APPLE-STRUCTURED-LOCATION;VALUE=URI;X-ADDRESS=9482 Renner Blvd\, Lenexa\,
  KS\, 66219\, United States;X-APPLE-RADIUS=100;X-TITLE=Brewbakers Bar & Gr
 ill:geo:38.956952,-94.780632
END:VEVENT
BEGIN:VTIMEZONE
TZID:America/Chicago
X-LIC-LOCATION:America/Chicago
BEGIN:DAYLIGHT
DTSTART:20200308T030000
TZOFFSETFROM:-0600
TZOFFSETTO:-0500
TZNAME:CDT
END:DAYLIGHT
END:VTIMEZONE
END:VCALENDAR