BEGIN:VCALENDAR
VERSION:2.0
PRODID:-//wp-events-plugin.com//7.2.3.1//EN
TZID:America/Chicago
X-WR-TIMEZONE:America/Chicago
BEGIN:VEVENT
UID:34@midwestawma.org
DTSTART;TZID=America/Chicago;VALUE=DATE:20190423
DTEND;TZID=America/Chicago;VALUE=DATE:20190425
DTSTAMP:20181213T033950Z
URL:https://midwestawma.org/events/mecc2019/
SUMMARY:Midwest Environmental Compliance Conference (MECC)
DESCRIPTION:The Midwest Environmental Compliance Conference (MECC) takes a 
 regional approach to includes environmental compliance\, permitting\, enfo
 rcement\, and other critical environmental issues that impact Midwest faci
 lities and institutions.\n\nMECC will be better than ever in 2019.  Midwe
 st A&amp\;WMA will be developing two technical sessions.\n\nFor more infor
 mation and to register\, go to:\n\nhttp://mecconference.com/
CATEGORIES:External
LOCATION:Kansas City Convention Center\, 301 W 13th St.\, Kansas City\, MO\
 , 64105\, United States
GEO:39.0982534;-94.58748779999996
X-APPLE-STRUCTURED-LOCATION;VALUE=URI;X-ADDRESS=301 W 13th St.\, Kansas Cit
 y\, MO\, 64105\, United States;X-APPLE-RADIUS=100;X-TITLE=Kansas City Conv
 ention Center:geo:39.0982534,-94.58748779999996
END:VEVENT
BEGIN:VTIMEZONE
TZID:America/Chicago
X-LIC-LOCATION:America/Chicago
BEGIN:DAYLIGHT
DTSTART:20190310T030000
TZOFFSETFROM:-0600
TZOFFSETTO:-0500
TZNAME:CDT
END:DAYLIGHT
END:VTIMEZONE
END:VCALENDAR