BEGIN:VCALENDAR
VERSION:2.0
PRODID:-//wp-events-plugin.com//7.2.3.1//EN
TZID:America/Chicago
X-WR-TIMEZONE:America/Chicago
BEGIN:VEVENT
UID:80@midwestawma.org
DTSTART;TZID=America/Chicago:20200520T100000
DTEND;TZID=America/Chicago:20200520T113000
DTSTAMP:20200507T212403Z
URL:https://midwestawma.org/events/may-2020-monthly-meeting-ozone-season/
SUMMARY:ONLINE: May 2020 Monthly Meeting - Air Quality in the KC Region
DESCRIPTION:Program details\n10:00 am - Presentation via WebEx\n\nLogin inf
 ormation will be sent to participants 1 day prior to the event.\nAir Quali
 ty in the Kansas City Region:\n\nThe presentation will highlight past and 
 present air quality issues in the region\, recent regulatory issues\, ongo
 ing monitoring efforts and strategies in the Clean Air Action Plan. The pr
 esentation will also highlight air quality as it relates to the COVID-19 p
 andemic.\nKaren Clawson\, Principal Planner/Air Quality Program Manager\, 
 MARC\nKaren Clawson is a Principal Planner and manager of the air quality 
 and RideshareKC programs at Mid-America Regional Council (MARC)\, the Kans
 as City region’s council of governments and metropolitan planning organi
 zation. She received a Master in Urban Planning and Bachelor of Fine Arts 
 in Industrial Design from the University of Kansas. Her career revolves ar
 ound environmental and transportation policy\, as well as community outrea
 ch and engagement with a focus on underserved and vulnerable communities. 
 Prior to her work serving the air quality and RideshareKC programs\, she m
 anaged transit planning at MARC and was involved in project management for
  the initial planning of the KC Streetcar and managed the redevelopment of
  the Smart Moves Regional Transit and Mobility Plan. Her current work focu
 ses on climate mitigation and adaption\, emerging mobility\, and improving
  air quality for all residents in the Kansas City area.\n\n&nbsp\;\n\n\n\n
 Only online payments are being accepted at this time.\n\n\n\nPlease select
  only one Ticket Type.  If you need to register more than one person\, re
 gister each separately.
CATEGORIES:Monthly Meetings
END:VEVENT
BEGIN:VTIMEZONE
TZID:America/Chicago
X-LIC-LOCATION:America/Chicago
BEGIN:DAYLIGHT
DTSTART:20200308T030000
TZOFFSETFROM:-0600
TZOFFSETTO:-0500
TZNAME:CDT
END:DAYLIGHT
END:VTIMEZONE
END:VCALENDAR