BEGIN:VCALENDAR
VERSION:2.0
PRODID:-//wp-events-plugin.com//7.2.3.1//EN
TZID:America/Chicago
X-WR-TIMEZONE:America/Chicago
BEGIN:VEVENT
UID:135@midwestawma.org
DTSTART;TZID=America/Chicago:20230323T154500
DTEND;TZID=America/Chicago:20230323T180000
DTSTAMP:20230306T170916Z
URL:https://midwestawma.org/events/march_2023_blvd/
SUMMARY:March 2023 Monthly Meeting - Sustainability Tour and Happy Hour at 
 Boulevard Brewing
DESCRIPTION:Program details\n\n&nbsp\;\nSustainability at Boulevard Brewing
 :\nEnjoy a private guided walking tour of the Boulevard Brewing facility\,
  with a focus on sustainability efforts.\n\nPrivate tours boast: a spot fo
 r you on the roster\, just over an hour of walking\, viewing &amp\; learni
 ng with two tour guides. Guests will receive two beer samples during the t
 our. At the end of the tour\, they can then either build their own flight 
 of 4 more small pours or enjoy 1 full pour of their favorite brew to enjoy
  in our tasting room for up to an hour. Each guest also receives a keepsak
 e-tasting glass. Additional drinks/food can be purchased at your own expen
 se.\n\nNote this event has a firm limit of 25 attendees and you must be 21
  or over to attend.\n\nPlease contact A&amp\;WMA ASAP if you cannot attend
  after registering\; We will issue you a refund.\n\nThe tour starts prompt
 ly at 4 PM. Please arrive by 3:45 PM to sign in.\n\nBoulevard tours start 
 at 2534 Madison Ave\, Kansas City\, MO 64108.\n\n\n\nIf you are paying by 
 check\, select Pay at the door.  Please bring your check to the meeting.
 \n\n\n\nPlease select only one Ticket Type.  If you need to register more
  than one person\, register each separately.
CATEGORIES:Monthly Meetings,Social Events
LOCATION:Boulevard Brewery\, 2534 Madison Avenue\, Kansas City\, MO\, 64108
 \, United States
X-APPLE-STRUCTURED-LOCATION;VALUE=URI;X-ADDRESS=2534 Madison Avenue\, Kansa
 s City\, MO\, 64108\, United States;X-APPLE-RADIUS=100;X-TITLE=Boulevard B
 rewery:geo:0,0
END:VEVENT
BEGIN:VTIMEZONE
TZID:America/Chicago
X-LIC-LOCATION:America/Chicago
BEGIN:DAYLIGHT
DTSTART:20230312T030000
TZOFFSETFROM:-0600
TZOFFSETTO:-0500
TZNAME:CDT
END:DAYLIGHT
END:VTIMEZONE
END:VCALENDAR