BEGIN:VCALENDAR
VERSION:2.0
PRODID:-//wp-events-plugin.com//7.2.3.1//EN
TZID:America/Chicago
X-WR-TIMEZONE:America/Chicago
BEGIN:VEVENT
UID:73@midwestawma.org
DTSTART;TZID=America/Chicago:20200311T073000
DTEND;TZID=America/Chicago:20200311T093000
DTSTAMP:20200313T202649Z
URL:https://midwestawma.org/events/march-2020-monthly-meeting-nuclear-plan
 t-decommissioning/
SUMMARY:March 2020 Monthly Meeting - Nuclear Plant Decommissioning
DESCRIPTION:[open_location_map]\n\n[ics_download]\nProgram details\n7:30 am
  - Registration/Breakfast\n\n8:00 am - Presentation\nNuclear Plant Decommi
 ssioning:\n\nThe Humboldt Bay Decommissioning &amp\; Demolition Project wa
 s for the dismantlement\, remediation\, and restoration of a small nuclear
  reactor (63 MW) in northern California.  The project’s remote location
 \, inclement weather\, and proximity to Humboldt Bay posed significant cha
 llenges and risks in executing the project. The project concluded in Septe
 mber 2019 after 6+ years of field work with zero lost time injuries and ov
 er 1.7M hours worked. The presentation will cover the decommissioning\, re
 mediation\, demolition\, and restoration of the 102-acre site.\n\n&nbsp\;\
 nEthan Begg\, Program Director\, APTIM\nEthan Begg is a registered PE in C
 hemical Engineering with over 20 years in the environmental field. For 10+
  years\, his background focused on air pollution control for fossil power 
 plants\, and acquired air permits for over 75\,000 MW of new generation in
  30+ states. After getting into Business Development\, Mr. Begg led the su
 ccessful capture team for the Humboldt Bay Decommissioning Project\, and t
 ransitioned into the role of contract manager for the project. In his tenu
 re he negotiated over $100M in change orders for the project. He spent the
  better part of six years at the Humboldt site in Eureka\, CA\, and served
  not only as Prime Contract Manager\, but as Business Manager\, Subcontrac
 t Administrator\, Procurement Lead\, and Finance Lead on the $280M+ projec
 t.\n\n&nbsp\;\n\n\n\nIf you are paying by check\, select Pay at the door.
   Please bring your check to the meeting.\n\n\n\nPlease select only one 
 Ticket Type.  If you need to register more than one person\, register eac
 h separately.
CATEGORIES:Monthly Meetings
LOCATION:Matt Ross Community Center\, 8101 Marty Street\, Overland Park\, K
 S\, 66204\, United States
GEO:38.9822845;-94.66922260000001
X-APPLE-STRUCTURED-LOCATION;VALUE=URI;X-ADDRESS=8101 Marty Street\, Overlan
 d Park\, KS\, 66204\, United States;X-APPLE-RADIUS=100;X-TITLE=Matt Ross C
 ommunity Center:geo:38.9822845,-94.66922260000001
END:VEVENT
BEGIN:VTIMEZONE
TZID:America/Chicago
X-LIC-LOCATION:America/Chicago
BEGIN:DAYLIGHT
DTSTART:20200308T030000
TZOFFSETFROM:-0600
TZOFFSETTO:-0500
TZNAME:CDT
END:DAYLIGHT
END:VTIMEZONE
END:VCALENDAR