BEGIN:VCALENDAR
VERSION:2.0
PRODID:-//wp-events-plugin.com//7.2.3.1//EN
TZID:America/Chicago
X-WR-TIMEZONE:America/Chicago
BEGIN:VEVENT
UID:77@midwestawma.org
DTSTART;TZID=America/Chicago:20200422T073000
DTEND;TZID=America/Chicago:20200422T162000
DTSTAMP:20200326T132127Z
URL:https://midwestawma.org/events/ku70th-env-eng-conf/
SUMMARY:KU 70th Annual Environmental Engineering Conference - NOW ONLINE
DESCRIPTION:DUE TO COVID-19 THIS YEAR'S CONFERENCE MOVES ONLINE.\nThe Midwe
 st Section encourages you to participate in the 70th Annual KU Environment
 al Engineering Conference.  \n \n\n\n\n\n\nJoin colleagues and a host of
  industry experts for an action-packed day exploring the latest developmen
 ts and hottest topics in the environmental field.\n \nWho should attend?\
 n\n 	Municipal and utility engineers\n 	Consulting engineers\n 	Public wor
 ks directors\n 	Plant superintendents and operators\n 	Representatives of 
 state and federal agencies\n 	Technical support staff\n 	Professors and st
 udents\n\nThe 70th Annual KU Environmental Engineering Conference is sched
 uled to be held on Wednesday\, April 22\, 2020. The conference theme is 
 “Resilient Engineered Environmental Systems.” The morning plenary sess
 ion talks (and panel discussion) will address climate adaptation\, resilie
 nt water systems\, integrated resources planning\, and resilience in the e
 nergy sector. “Systems” is intended to be comprehensive and to include
  infrastructure design\, operations\, planning\, and management. Our after
 noon presentations will focus on topics of interest to attendees working i
 n the areas of water supply and treatment\; wastewater and stormwater coll
 ection and treatment\, including biosolids management\; and air\, energy\,
  and waste management. Participants will earn 6.5 PDHs.\n\nFor more inform
 ation and to register\, go to:\n\nhttps://ceae.ku.edu/kueec
CATEGORIES:External
LOCATION:University of Kansas Memorial Union\, 1301 Jayhawk Blvd\, Level 5\
 , Lawrence\, KS\, 66045\, United States
GEO:38.959214;-95.24348199999997
X-APPLE-STRUCTURED-LOCATION;VALUE=URI;X-ADDRESS=1301 Jayhawk Blvd\, Level 5
 \, Lawrence\, KS\, 66045\, United States;X-APPLE-RADIUS=100;X-TITLE=Univer
 sity of Kansas Memorial Union:geo:38.959214,-95.24348199999997
END:VEVENT
BEGIN:VTIMEZONE
TZID:America/Chicago
X-LIC-LOCATION:America/Chicago
BEGIN:DAYLIGHT
DTSTART:20200308T030000
TZOFFSETFROM:-0600
TZOFFSETTO:-0500
TZNAME:CDT
END:DAYLIGHT
END:VTIMEZONE
END:VCALENDAR