BEGIN:VCALENDAR
VERSION:2.0
PRODID:-//wp-events-plugin.com//7.2.3.1//EN
TZID:America/Chicago
X-WR-TIMEZONE:America/Chicago
BEGIN:VEVENT
UID:36@midwestawma.org
DTSTART;TZID=America/Chicago:20190417T073000
DTEND;TZID=America/Chicago:20190417T162000
DTSTAMP:20190211T172022Z
URL:https://midwestawma.org/events/ku-env-eng-conf2019/
SUMMARY:KU 69th Annual Environmental Engineering Conference
DESCRIPTION:The Midwest Section encourages you to attend the 69th Annual KU
  Environmental Engineering Conference.\n\nAffordably Improving Sustainabil
 ity and System Performance\n\n\n\n\n\n\n\n\n\n\n\n\n\n\n\nThe 69th Annual 
 KU Environmental Engineering Conference is scheduled to be held on Wednesd
 ay\, April 17\, 2019\, at the Kansas Memorial Union.  The conference them
 e is “Affordably Improving Sustainability and System Performance.”  P
 lenary session presentations will address topics of broad interest.  Afte
 rnoon breakout sessions will address timely topics in the areas of water s
 upply and treatment\, water resource recovery facilities\, and air\, waste
  and enery management.  Participants will earn 6.5 PDHs.  Program and re
 gistration information is available at https://ceae.ku.edu/kueec\n\nJoin 
 colleagues and a host of industry experts for an action-packed day explori
 ng the latest developments and hottest topics in the environmental field.\
 n \nWho should attend?\n\n 	Municipal and utility engineers\n 	Consulting
  engineers\n 	Public works directors\n 	Plant superintendents and operator
 s\n 	Representatives of state and federal agencies\n 	Technical support st
 aff\n 	Professors and students\n\n&nbsp\;\n\n6.5 PDHs awarded
CATEGORIES:External
LOCATION:University of Kansas Memorial Union\, 1301 Jayhawk Blvd\, Level 5\
 , Lawrence\, KS\, 66045\, United States
GEO:38.959214;-95.24348199999997
X-APPLE-STRUCTURED-LOCATION;VALUE=URI;X-ADDRESS=1301 Jayhawk Blvd\, Level 5
 \, Lawrence\, KS\, 66045\, United States;X-APPLE-RADIUS=100;X-TITLE=Univer
 sity of Kansas Memorial Union:geo:38.959214,-95.24348199999997
END:VEVENT
BEGIN:VTIMEZONE
TZID:America/Chicago
X-LIC-LOCATION:America/Chicago
BEGIN:DAYLIGHT
DTSTART:20190310T030000
TZOFFSETFROM:-0600
TZOFFSETTO:-0500
TZNAME:CDT
END:DAYLIGHT
END:VTIMEZONE
END:VCALENDAR