BEGIN:VCALENDAR
VERSION:2.0
PRODID:-//wp-events-plugin.com//7.2.3.1//EN
TZID:America/Chicago
X-WR-TIMEZONE:America/Chicago
BEGIN:VEVENT
UID:14@midwestawma.org
DTSTART;TZID=America/Chicago:20180418T073000
DTEND;TZID=America/Chicago:20180418T162000
DTSTAMP:20180303T020320Z
URL:https://midwestawma.org/events/ku-env-eng-conf2018/
SUMMARY:KU 68th Annual Environmental Engineering Conference
DESCRIPTION:The Midwest Section encourages you to attend the 68th Annual KU
  Environmental Engineering Conference.\n \n\n\n\n\n\n\nJoin colleagues an
 d a host of industry experts for an action-packed day exploring the latest
  developments and hottest topics in the environmental field.\n \nWho shou
 ld attend?\n\n 	Municipal and utility engineers\n 	Consulting engineers\n 
 	Public works directors\n 	Plant superintendents and operators\n 	Represen
 tatives of state and federal agencies\n 	Technical support staff\n 	Profes
 sors and students\n\nFor more information and to register\, go to:\n\nhttp
 s://ceae.ku.edu/environmental-conference/home-page\n\n6.5 PDHs awarded
CATEGORIES:External
LOCATION:University of Kansas Memorial Union\, 1301 Jayhawk Blvd\, Level 5\
 , Lawrence\, KS\, 66045\, United States
GEO:38.959214;-95.24348199999997
X-APPLE-STRUCTURED-LOCATION;VALUE=URI;X-ADDRESS=1301 Jayhawk Blvd\, Level 5
 \, Lawrence\, KS\, 66045\, United States;X-APPLE-RADIUS=100;X-TITLE=Univer
 sity of Kansas Memorial Union:geo:38.959214,-95.24348199999997
END:VEVENT
BEGIN:VTIMEZONE
TZID:America/Chicago
X-LIC-LOCATION:America/Chicago
BEGIN:DAYLIGHT
DTSTART:20180311T030000
TZOFFSETFROM:-0600
TZOFFSETTO:-0500
TZNAME:CDT
END:DAYLIGHT
END:VTIMEZONE
END:VCALENDAR