BEGIN:VCALENDAR
VERSION:2.0
PRODID:-//wp-events-plugin.com//7.2.3.1//EN
TZID:America/Chicago
X-WR-TIMEZONE:America/Chicago
BEGIN:VEVENT
UID:94@midwestawma.org
DTSTART;TZID=America/Chicago:20201006T150000
DTEND;TZID=America/Chicago:20201006T170000
DTSTAMP:20200930T164642Z
URL:https://midwestawma.org/events/introduction-to-the-environmental-profe
 ssion-workshop/
SUMMARY:Introduction to the Environmental Profession Workshop - Day 1
DESCRIPTION:Exploring the Environmental Profession\nJoin the Midwest Sectio
 n of the Air and Waste Management Association for our fourth annual Young 
 Professionals workshop - via webinar for 2020!\n\nIn our first session on 
 October 6\, experts in the environmental field will present an introductor
 y course on working in the air\, water\, remediation\, and solid waste pro
 fessions.\n\nFor the second session on October 13\, we will host a speed l
 earning round on hot topics and the ever-popular environmental professiona
 ls panel where workshop attendees can ask questions to local professionals
 .\n\nJoin us to learn a new topic area\, refresh your knowledge\, and netw
 ork with local professionals in the field!\n\nAgenda:\n\nModerator - Kelli
  Calhoon\, Ramboll\n\nTuesday\, October 6\, 2020:  3:00pm - 5:00pm\n\nInt
 roduction Topics - Perspectives on Working in Enviro Topic Areas\n\n 	Air 
 Quality - Kristen Chrislip\, Trinity Consultants\n 	Water Resources - Shil
 oh Beeman\, GeoEngineers\n 	Solid Waste - Floyd Cotter\, SCS Engineers\n 	
 Remediation - Brian Hanks\, Foth Infrastructure &amp\; Environment\n\nTues
 day\, October 13\, 2020: 3:00pm - 5:00pm\n\nSpeed Learning\n\n 	Working wi
 th Enviro Regulations - Paul Jacobson\, Spencer Fane\n 	KC Climate Resilie
 ncy - Tom Jacobs\, Mid America Regional Council\n 	PFAS/Emerging Contamina
 nts - Allison Haus\, Foth Infrastructure &amp\; Environment\n 	Using AI/Im
 aging for Investigation - Mike Rawitch\, Ramboll\n\nProfessionals Panel Q&
 amp\;A Session\n\n 	Keaton Abeln\, Kansas Department of Health &amp\; Envi
 ronment\n 	Chris Carey\, ppb enviro-solutions\n 	Kristin Fritchman\, Energ
 y Transfer\n 	Allison Haus\, Foth Infrastructure &amp\; Environment\n 	Mik
 e Rawitch\, Ramboll\n\nFREE for AWMA members and students - $5 for non-mem
 bers.  Registration will give access to both sessions.\n\nFor more inform
 ation\, contact Kelli Calhoon at 913-220-3810 or kcalhoon@ramboll.com\n\n&
 nbsp\;\n\n\n\nIf you are paying by check\, click the applicable Ticket Ty
 pe. Then click\n\n\nIf paying by check\, after you are redirected to PayPa
 l\, click\n\nCancel and return to Midwest Chapter - Air &amp\; Waste Manag
 ement\nAssociation\n\n\n\n\n\n\n&nbsp\;\n\nPlease select only one Ticket T
 ype.  If you need to register more than one person\, register each separa
 tely.
CATEGORIES:Workshop
LOCATION:https://midwestawma.org
END:VEVENT
BEGIN:VTIMEZONE
TZID:America/Chicago
X-LIC-LOCATION:America/Chicago
BEGIN:DAYLIGHT
DTSTART:20200308T030000
TZOFFSETFROM:-0600
TZOFFSETTO:-0500
TZNAME:CDT
END:DAYLIGHT
END:VTIMEZONE
END:VCALENDAR