BEGIN:VCALENDAR
VERSION:2.0
PRODID:-//wp-events-plugin.com//7.2.3.1//EN
TZID:America/Chicago
X-WR-TIMEZONE:America/Chicago
BEGIN:VEVENT
UID:116@midwestawma.org
DTSTART;TZID=America/Chicago:20211110T150000
DTEND;TZID=America/Chicago:20211110T170000
DTSTAMP:20211104T140247Z
URL:https://midwestawma.org/events/introduction-to-the-environmental-profe
 ssion-workshop-2021/
SUMMARY:Introduction to the Environmental Profession Workshop - Nov 3 & 10\
 , 2021
DESCRIPTION:\nExploring Sectors in the Environmental Profession\nNov 3 &amp
 \; 10\, 2021 - Virtual via Zoom Webinar\nSessions will be recorded and ava
 ilable to registrants for viewing for one month after the live session.\n\
 nJoin the Midwest Section of the Air and Waste Management Association for 
 our 5th annual Young Professionals workshop!\n\nOn November 3\, we have in
 vited practicing environmental professionals to present insights into work
 ing within various sectors\, including the manufacturing\, consulting\, no
 n-profit\, public agency\, and legal sectors.\n\nOn November 10\, we will 
 host sessions on continuing education in the profession\, including contin
 uing education through certificates and graduate programs as well as the p
 rofessional certifications of Professional Engineer (PE) and Professional 
 Geologist (PG). We will close with a Q&amp\;A session where workshop atten
 dees can ask questions to local professionals.\n\nThis workshop is benefic
 ial for working professionals to understand perspectives of professionals 
 in different sectors and for students who are investigating careers in the
  environmental field!\n\nWednesday\, November 3\, 2021:  3:00pm - 5:00pm\
 n\nIntroduction to Environmental Sectors \n\n 	Industry - Kristin Fritchm
 an\, Energy Transfer\n 	Consulting - Abby Perkins\, Ramboll\n 	Public Agen
 cy - Deborah Bredehoft\, Environmental Protection Agency Region 7\n 	Non-P
 rofit - Eric Hemphill\, Bridging the Gap\n 	Legal - Paul Jacobsen\, Spence
 r Fane\n\nWednesday\, November 10\, 2021: 3:00pm - 5:00pm\n\nContinuing Ed
 ucation\n\n 	Certificate &amp\; Graduate Programs - Terri Woodburn\, Unive
 rsity of Kansas\n 	Professional Certifications\n\n 	Professional Engineer 
 (PE) - Jessica Yeager\, Geosyntec\n 	Professional Geologist (PG) - Chuck J
 oyce\, SCS Engineers\n\n\n\nQ&amp\;A with Local Professionals \n\n&nbsp\;
 \n\nFull-Time Students\; $15\, AWMA Members: $25\, Non-Members: $40.\n\nRe
 gistration will give access to both sessions. Scroll down to "Bookings" to
  register.\n\nFor more information\, contact Kelli Calhoon at 913-220-3810
  or kcalhoon@ramboll.com\n\n&nbsp\;\n\n\n\nIf you are paying by check\, c
 lick the applicable Ticket Type. Then click\n\n\nIf paying by check\, afte
 r you are redirected to PayPal\, click\n\nCancel and return to Midwest Cha
 pter - Air &amp\; Waste Management\nAssociation\n\n\n\n\n\n\n&nbsp\;\n\nPl
 ease select only one Ticket Type.  If you need to register more than one 
 person\, register each separately.
CATEGORIES:Workshop
END:VEVENT
BEGIN:VTIMEZONE
TZID:America/Chicago
X-LIC-LOCATION:America/Chicago
BEGIN:STANDARD
DTSTART:20211107T010000
TZOFFSETFROM:-0500
TZOFFSETTO:-0600
TZNAME:CST
END:STANDARD
END:VTIMEZONE
END:VCALENDAR