BEGIN:VCALENDAR
VERSION:2.0
PRODID:-//wp-events-plugin.com//7.2.3.1//EN
TZID:America/Chicago
X-WR-TIMEZONE:America/Chicago
BEGIN:VEVENT
UID:66@midwestawma.org
DTSTART;TZID=America/Chicago:20191114T113000
DTEND;TZID=America/Chicago:20191114T130000
DTSTAMP:20191030T152535Z
URL:https://midwestawma.org/events/heartland-chmm-november-2019-chapter-me
 eting/
SUMMARY:Heartland CHMM:  November 2019 Chapter Meeting
DESCRIPTION:CHMM's last meeting of the year will be held at the Mid America
  Regional Council (MARC). Erin Lynch with MARC will speak to us about the 
 Greater Kansas City Local Emergency Planning Committee. https://www.marc.o
 rg/Emergency-Services-9-1-1/LEPC/General-Information/About-LEPC\n\nThursda
 y\, November 14\n\n11:30 am - 1:00 pm\nMARC Board Room\n600 Broadway\, Sui
 te 200\, KCMO 64105\n\nGo to CHMM's events page to register for the meetin
 g. Cost is $20 for members\, $25 for guests\, and $10 for students.\n\n&nb
 sp\;
CATEGORIES:External
LOCATION:MARC Board Room\, 600 Broadway\, Suite 200\, Kansas City\, MO\, 64
 105\, United States
GEO:39.106;-94.588481
X-APPLE-STRUCTURED-LOCATION;VALUE=URI;X-ADDRESS=600 Broadway\, Suite 200\, 
 Kansas City\, MO\, 64105\, United States;X-APPLE-RADIUS=100;X-TITLE=MARC B
 oard Room:geo:39.106,-94.588481
END:VEVENT
BEGIN:VTIMEZONE
TZID:America/Chicago
X-LIC-LOCATION:America/Chicago
BEGIN:STANDARD
DTSTART:20191103T010000
TZOFFSETFROM:-0500
TZOFFSETTO:-0600
TZNAME:CST
END:STANDARD
END:VTIMEZONE
END:VCALENDAR