BEGIN:VCALENDAR
VERSION:2.0
PRODID:-//wp-events-plugin.com//7.2.3.1//EN
TZID:America/Chicago
X-WR-TIMEZONE:America/Chicago
BEGIN:VEVENT
UID:28@midwestawma.org
DTSTART;TZID=America/Chicago:20181114T113000
DTEND;TZID=America/Chicago:20181114T130000
DTSTAMP:20181102T165920Z
URL:https://midwestawma.org/events/heartland-chmm-november-2018-general-me
 eting-adventures-in-solid-waste/
SUMMARY:Heartland CHMM November 2018 General Meeting:  Adventures in Solid 
 Waste
DESCRIPTION:Heartland CHMM November General Meeting\, Thursday November 15t
 h\, 11:30 to 1PM\,\nBurg &amp\; Barrel\, 7042 W 76th St\, Overland Park\, 
 KS 66204\nCost $21 for members/$26 for non-members\n\nCraig Wood with th
 e Johnson County Environmental Department will give a presentation entitle
 d: “Adventures in Solid Waste: Special Waste Mishaps and General Landfi
 ll Operations”\n\nRSVP to Anne Melia by Thursday November 8th and pay on
 line at the Heartland CHMM website.
CATEGORIES:External
END:VEVENT
BEGIN:VTIMEZONE
TZID:America/Chicago
X-LIC-LOCATION:America/Chicago
BEGIN:STANDARD
DTSTART:20181104T010000
TZOFFSETFROM:-0500
TZOFFSETTO:-0600
TZNAME:CST
END:STANDARD
END:VTIMEZONE
END:VCALENDAR