BEGIN:VCALENDAR
VERSION:2.0
PRODID:-//wp-events-plugin.com//7.2.3.1//EN
TZID:America/Chicago
X-WR-TIMEZONE:America/Chicago
BEGIN:VEVENT
UID:30@midwestawma.org
DTSTART;TZID=America/Chicago:20190213T073000
DTEND;TZID=America/Chicago:20190213T093000
DTSTAMP:20190219T220754Z
URL:https://midwestawma.org/events/feb-2019-monthly-ehs/
SUMMARY:February 2019 Monthly Meeting - EHS / Safety
DESCRIPTION:EHS
CATEGORIES:Monthly Meetings
LOCATION:Matt Ross Community Center\, 8101 Marty Street\, Overland Park\, K
 S\, 66204\, United States
GEO:38.9822845;-94.66922260000001
X-APPLE-STRUCTURED-LOCATION;VALUE=URI;X-ADDRESS=8101 Marty Street\, Overlan
 d Park\, KS\, 66204\, United States;X-APPLE-RADIUS=100;X-TITLE=Matt Ross C
 ommunity Center:geo:38.9822845,-94.66922260000001
END:VEVENT
BEGIN:VTIMEZONE
TZID:America/Chicago
X-LIC-LOCATION:America/Chicago
BEGIN:STANDARD
DTSTART:20181104T010000
TZOFFSETFROM:-0500
TZOFFSETTO:-0600
TZNAME:CST
END:STANDARD
END:VTIMEZONE
END:VCALENDAR