BEGIN:VCALENDAR
VERSION:2.0
PRODID:-//wp-events-plugin.com//7.2.3.1//EN
TZID:America/Chicago
X-WR-TIMEZONE:America/Chicago
BEGIN:VEVENT
UID:33@midwestawma.org
DTSTART;TZID=America/Chicago:20190320T150000
DTEND;TZID=America/Chicago:20190320T170000
DTSTAMP:20191210T190457Z
URL:https://midwestawma.org/events/epa_r7update_2019/
SUMMARY:EPA Region 7 Update
DESCRIPTION:EPA Region 7 Update
ATTACH;FMTTYPE=image/jpeg:https://midwestawma.org/wp-content/uploads/2018/
 12/epar7-bldg.jpg
CATEGORIES:Monthly Meetings
LOCATION:EPA Region 7\, 11201 Renner Blvd.\, Lenexa\, KS\, 66219\, United S
 tates
GEO:38.92507210000001;-94.77732900000001
X-APPLE-STRUCTURED-LOCATION;VALUE=URI;X-ADDRESS=11201 Renner Blvd.\, Lenexa
 \, KS\, 66219\, United States;X-APPLE-RADIUS=100;X-TITLE=EPA Region 7:geo:
 38.92507210000001,-94.77732900000001
END:VEVENT
BEGIN:VTIMEZONE
TZID:America/Chicago
X-LIC-LOCATION:America/Chicago
BEGIN:DAYLIGHT
DTSTART:20190310T030000
TZOFFSETFROM:-0600
TZOFFSETTO:-0500
TZNAME:CDT
END:DAYLIGHT
END:VTIMEZONE
END:VCALENDAR