BEGIN:VCALENDAR
VERSION:2.0
PRODID:-//wp-events-plugin.com//7.2.3.1//EN
TZID:America/Chicago
X-WR-TIMEZONE:America/Chicago
BEGIN:VEVENT
UID:64@midwestawma.org
DTSTART;TZID=America/Chicago:20191211T073000
DTEND;TZID=America/Chicago:20191211T093000
DTSTAMP:20191113T160203Z
URL:https://midwestawma.org/events/december-2019-monthly-meeting-environme
 ntal-sustainability-of-kcs/
SUMMARY:December 2019 Monthly Meeting - Environmental Sustainability of Kan
 sas City Southern
DESCRIPTION:[open_location_map]\n\n[ics_download]\nProgram details\n&nbsp\;
 \nEnvironmental Sustainability of Kansas City Southern:\nReducing our carb
 on footprint is not a buzz phrase at Kansas City Southern. It is our commi
 tment that we will be responsible stewards of our environment by demonstra
 ting resource efficiency and conservation of natural resources. Our focus 
 is to reduce the amount of diesel gallons and CO2e emissions thru the use 
 of technologies and improved processes. We have avoided emissions on 10.2M
  gallons of diesel fuel in 2019 thru October.  In 2019 KCS has proven to 
 be responsible stewards of our environment by reducing our fuel consumptio
 n by 11%.\n\n&nbsp\;\nTony Roberts\, Director of Fuel Conservation\, KC So
 uthern Railroad\nTony Roberts is the Director of Fuel Conservation at KC S
 outhern Railroad (KCS)\, where Tony leads the design\, testing\, implement
 ation and monitoring of processes\, programs and technologies that improve
  fuel efficiency.\n\nTony has a Master’s Degree in Transportation Safety
 \, has worked in the industry for 20 years\, and spent the last 6 years st
 anding up the Fuel Conservation Department at KCS.  He has implemented se
 veral fuel saving technologies that have saved over 10M gallons of diesel 
 fuel per year.\n\nAway from work\, Tony enjoys spending time with his fami
 ly in Overland Park and volunteering at Blue Valley Baptist Church.\n\n&nb
 sp\;\n\n\n\nIf you are paying by check\, select Pay at the door.  Please
  bring your check to the meeting.\n\n\n\nPlease select only one Ticket Typ
 e.  If you need to register more than one person\, register each separate
 ly.
CATEGORIES:Monthly Meetings
LOCATION:Matt Ross Community Center\, 8101 Marty Street\, Overland Park\, K
 S\, 66204\, United States
GEO:38.9822845;-94.66922260000001
X-APPLE-STRUCTURED-LOCATION;VALUE=URI;X-ADDRESS=8101 Marty Street\, Overlan
 d Park\, KS\, 66204\, United States;X-APPLE-RADIUS=100;X-TITLE=Matt Ross C
 ommunity Center:geo:38.9822845,-94.66922260000001
END:VEVENT
BEGIN:VTIMEZONE
TZID:America/Chicago
X-LIC-LOCATION:America/Chicago
BEGIN:STANDARD
DTSTART:20191103T010000
TZOFFSETFROM:-0500
TZOFFSETTO:-0600
TZNAME:CST
END:STANDARD
END:VTIMEZONE
END:VCALENDAR