BEGIN:VCALENDAR
VERSION:2.0
PRODID:-//wp-events-plugin.com//7.2.3.1//EN
TZID:America/Chicago
X-WR-TIMEZONE:America/Chicago
BEGIN:VEVENT
UID:10@midwestawma.org
DTSTART;TZID=America/Chicago:20180306T113000
DTEND;TZID=America/Chicago:20180306T133000
DTSTAMP:20180216T142453Z
URL:https://midwestawma.org/events/chmm201803/
SUMMARY:Heartland CHMM March 2018 General Meeting:  Pace Analytical Lab Tou
 r and QC
DESCRIPTION:Anna Custer and Ben Dines will conduct tours of the lab\, and t
 hen during lunch we will have a presentation regarding lab quality contro
 l (QC) that is geared to young environmental professionals.\n\nLocation:
   Pace Analytical\, 9608 Loiret Boulevard\, Lenexa\, KS 66219\n\n$16 
 for Members/$21 for Non-Members\n&nbsp\;\n\nFor more information and to re
 gister\, go to:\n\nhttp://heartlandchmm.org/upcoming-events/
CATEGORIES:External
END:VEVENT
BEGIN:VTIMEZONE
TZID:America/Chicago
X-LIC-LOCATION:America/Chicago
BEGIN:STANDARD
DTSTART:20171105T010000
TZOFFSETFROM:-0500
TZOFFSETTO:-0600
TZNAME:CST
END:STANDARD
END:VTIMEZONE
END:VCALENDAR