BEGIN:VCALENDAR
VERSION:2.0
PRODID:-//wp-events-plugin.com//7.2.3.1//EN
TZID:America/Chicago
X-WR-TIMEZONE:America/Chicago
BEGIN:VEVENT
UID:21@midwestawma.org
DTSTART;TZID=America/Chicago:20180907T150000
DTEND;TZID=America/Chicago:20180907T170000
DTSTAMP:20180809T203353Z
URL:https://midwestawma.org/events/chmm-september-general-meeting-tour-of-
 kansas-city-missouri-regional-household-hazardous-waste-facility/
SUMMARY:CHMM September General Meeting - Tour of Kansas City\, Missouri Reg
 ional Household Hazardous Waste Facility
DESCRIPTION:Heartland CHMM - September General Meeting: Tour of Kansas City
 \, Missouri Regional Household Hazardous Waste Facility\n\nFriday Septembe
 r 7\, 2018 3 PM\n\nFor more details and to RSVP\, visit http://heartlandch
 mm.org/upcoming-events/\n\nMost homes have chemical containing products th
 at are used for cleaning or maintenance\, such as drain cleaners\, lawn ch
 emicals\, paints\, or lubricants. Disposal of these products\, when they a
 re unwanted or unused\, becomes a problem for the community and the enviro
 nment if they are disposed of in the trash or poured down a sink or storm 
 drain.\n\nJoin us as we tour the Kansas City\, Mo Regional Household Hazar
 dous Waste Facility to learn how this facility manages household hazardous
  waste through reuse\, recycling\, and proper disposal. Facility staff wil
 l discuss the regional collection program\, including mobile collection ev
 ents\, and give participants a trip through the process\, from the moment 
 the waste arrives at the door through to its packing for shipment to final
  disposal.\n\nAt the conclusion of the tour\, we will gather at a nearby l
 ocation (TBD) to network and socialize.\n\n&nbsp\;
CATEGORIES:External
END:VEVENT
BEGIN:VTIMEZONE
TZID:America/Chicago
X-LIC-LOCATION:America/Chicago
BEGIN:DAYLIGHT
DTSTART:20180311T030000
TZOFFSETFROM:-0600
TZOFFSETTO:-0500
TZNAME:CDT
END:DAYLIGHT
END:VTIMEZONE
END:VCALENDAR