BEGIN:VCALENDAR
VERSION:2.0
PRODID:-//wp-events-plugin.com//7.2.3.1//EN
TZID:America/Chicago
X-WR-TIMEZONE:America/Chicago
BEGIN:VEVENT
UID:98@midwestawma.org
DTSTART;TZID=America/Chicago:20201110T113000
DTEND;TZID=America/Chicago:20201110T130000
DTSTAMP:20201014T181831Z
URL:https://midwestawma.org/events/board-meeting-november-2020/
SUMMARY:Board Meeting November 2020
DESCRIPTION:\n\nDuring the Midwest Section Board meetings\, the board discu
 sses and plans upcoming events.\n\nBoard meetings are open to the environm
 ental professional community as an observer.  Join us to see what we are 
 about and to consider joining the board.\n\nFor details on the meeting con
 tact Stephanie Taylor.\n\n
CATEGORIES:Board Meetings
LOCATION:https://midwestawma.org
END:VEVENT
BEGIN:VTIMEZONE
TZID:America/Chicago
X-LIC-LOCATION:America/Chicago
BEGIN:STANDARD
DTSTART:20201101T010000
TZOFFSETFROM:-0500
TZOFFSETTO:-0600
TZNAME:CST
END:STANDARD
END:VTIMEZONE
END:VCALENDAR