BEGIN:VCALENDAR
VERSION:2.0
PRODID:-//wp-events-plugin.com//7.2.3.1//EN
TZID:America/Chicago
X-WR-TIMEZONE:America/Chicago
BEGIN:VEVENT
UID:65@midwestawma.org
DTSTART;TZID=America/Chicago:20191101T184500
DTEND;TZID=America/Chicago:20191101T233000
DTSTAMP:20191030T144028Z
URL:https://midwestawma.org/events/blue-river-watershed-association-2019-w
 ater-ball/
SUMMARY:Blue River Watershed Association:  2019 Water Ball
DESCRIPTION:&nbsp\;\n\nWe can’t throw a party without you all!  You are 
 invited to the Water Ball 2019.  It is November 1st at the amazing Uptown
  Theater!  It’s a fundraiser to support the Blue River Watershed Associ
 ation's mission to protect watersheds through environmental education\, co
 mmunity outreach\, partnerships\, and collaboration.  Please find the inv
 itation below.  There will be an amazing dinner and auction!\n\nWater Bal
 l Agenda\n\n6:00 pm - 7:00 pm (V.I.P) \n\n6:45 pm  (Event Registration)\
 n\n7:10 pm (Dinner)\n\n7:40 pm ( Program)\n\n8:00 pm (Live Auction)\n\n8:3
 0 pm (Dancing)\n\n11:30 pm (Program Concludes)\n\nFor more information: ht
 tps://brwa.ejoinme.org/MyEvents/WaterBall2019/tabid/1096523/Default.aspx\n
 \nThe Blue River Watershed Association (BRWA) was initiated by a 7th grade
  science teacher in Kansas City\, Kansas in 1996 and began the T.R.U.E. Bl
 ue Project (Teaching Rivers in an Urban Environment: The Blue River Waters
 hed Project). In 1997 BRWA was incorporated as a 501(c)3 non-profit with a
  mission to restore and protect watersheds through environmental education
 \, community outreach\, partnerships\, and collaboration.\n\nIt has three 
 over-arching goals of community education and outreach\; environmental ste
 wardship\; and strategic partnerships. In community education and outreach
  the association works with school districts throughout the Kansas City Me
 tropolitan (Kansas and Missouri) to teach young people about the importanc
 e of good water quality to health\, recreation and the quality of life in 
 watersheds. BRWA's community programs inform citizens\, neighborhood assoc
 iations\, cities\, counties and local businesses about ways that all citiz
 ens can contribute to healthy rivers and streams. As creeks\, streams\, an
 d rivers do not stop at political boundaries –- they cross city\, county
  and state lines our work built upon effective\, strategic partnerships wi
 th citizens\, cities\, counties\, and businesses across the Metro Area. Th
 e Blue River Watershed Association believes in the power of partnerships t
 o achieve goals for a healthier watershed.\n\n&nbsp\;
CATEGORIES:External
LOCATION:Uptown Theater\, 3700 Broadway Blvd\, Kansas City\, MO\, 64111\, U
 nited States
GEO:39.061034;-94.59094
X-APPLE-STRUCTURED-LOCATION;VALUE=URI;X-ADDRESS=3700 Broadway Blvd\, Kansas
  City\, MO\, 64111\, United States;X-APPLE-RADIUS=100;X-TITLE=Uptown Theat
 er:geo:39.061034,-94.59094
END:VEVENT
BEGIN:VTIMEZONE
TZID:America/Chicago
X-LIC-LOCATION:America/Chicago
BEGIN:DAYLIGHT
DTSTART:20190310T030000
TZOFFSETFROM:-0600
TZOFFSETTO:-0500
TZNAME:CDT
END:DAYLIGHT
END:VTIMEZONE
END:VCALENDAR