BEGIN:VCALENDAR
VERSION:2.0
PRODID:-//wp-events-plugin.com//7.2.3.1//EN
TZID:America/Chicago
X-WR-TIMEZONE:America/Chicago
BEGIN:VEVENT
UID:102@midwestawma.org
DTSTART;TZID=America/Chicago:20201118T103000
DTEND;TZID=America/Chicago:20201118T120000
DTSTAMP:20201110T203731Z
URL:https://midwestawma.org/events/awma-online-november-2020-monthly-meeti
 ng-covid-19-in-wastewater-testing/
SUMMARY:A&WMA ONLINE: November 2020 Monthly Meeting - COVID-19 in Wastewate
 r Testing
DESCRIPTION:Program details\n10:30 am - Presentation via Zoom\n\nLogin info
 rmation will be sent to participants 1 day prior to the event.\nCOVID-19 i
 n Wastewater Testing:\nThe presentation covers many of the basics includin
 g…..\n\n 	COVID-19 vs SARS-COV2\n 	Comparison of Testing Technologies De
 ployed\n 	The Wastewater As An Indicator Hypothesis\n 	The Importance of D
 ata in Winning vs The Pandemic\n 	Discussion on Data Reporting Variances\n
  	Is a Quantitative Test Worth It?\n 	Sampling Design Considerations\n 	Di
 scussion on Types of Composite Samples\n 	Methods\, Specs\, Guidance and/o
 r Guidelines Fact vs Assumption\n 	Testing Resource Options and Considerat
 ions\n\nDanny Ramsey -  Vice President of Sales\, Pace Analytical\n\nDann
 y Ramsey is the Vice President of Sales for the Western US for Pace Analyt
 ical.  His responsibilities include oversight and direction of the senior
  sales management and business development teams for the North &amp\; West
  and South Central regions and for the Pace Analytical National Center for
  Testing &amp\; Innovation.  Mr. Ramsey has been with the company for 24 
 years.\n\n&nbsp\;\n\n\n\nOnly online payments are being accepted at this t
 ime.\n\n\n\nPlease select only one Ticket Type.  If you need to register 
 more than one person\, register each separately.
CATEGORIES:Monthly Meetings
LOCATION:https://midwestawma.org
END:VEVENT
BEGIN:VTIMEZONE
TZID:America/Chicago
X-LIC-LOCATION:America/Chicago
BEGIN:STANDARD
DTSTART:20201101T010000
TZOFFSETFROM:-0500
TZOFFSETTO:-0600
TZNAME:CST
END:STANDARD
END:VTIMEZONE
END:VCALENDAR