BEGIN:VCALENDAR
VERSION:2.0
PRODID:-//wp-events-plugin.com//7.2.3.1//EN
TZID:America/Chicago
X-WR-TIMEZONE:America/Chicago
BEGIN:VEVENT
UID:110@midwestawma.org
DTSTART;TZID=America/Chicago:20210527T110000
DTEND;TZID=America/Chicago:20210527T123000
DTSTAMP:20210519T214003Z
URL:https://midwestawma.org/events/awma-online-may-2021-monthly-meeting-re
 creational-cannabis-an-emerging-industry-with-complex-environmental-challe
 nges/
SUMMARY:A&WMA ONLINE: May 2021 Monthly Meeting - Recreational Cannabis: An 
 Emerging Industry with Complex Environmental Challenges
DESCRIPTION:Program details\n11:00am - Presentation via Zoom\n\nLogin infor
 mation will be sent to participants 1 day prior to the event.\nRecreationa
 l Cannabis: An Emerging Industry with Complex Environmental Challenges\n\n
 Cannabis and hemp production is spreading rapidly throughout the country a
 nd vertically integrated companies are emerging with broad cultivation\, m
 anufacturing\, and distribution networks. The industry is a unique mixture
  of agricultural\, industrial\, and commercial activities which are accomp
 anied by novel environmental challenges as well\, including: odor &amp\; a
 ir quality management\, wastewater handling and disposal\, solid waste dis
 posal\, and high energy consumption. SCS has been working intensively with
  the cannabis industry for two years and has several insights to share as 
 the industry proliferates throughout the nation.\nTia Jeter\, P.E. -  Pro
 ject Advisor\, SCS Engineers\n\nMs. Jeter is a registered Professional Eng
 ineer and a Project Advisor with SCS Engineers.  She has over seventeen y
 ears of experience in the environmental compliance field focusing predomin
 antly on air compliance for chemical\, agricultural\, and solid waste faci
 lities.  Ms. Jeter has recently been involved in the development and cert
 ification of Odor Management Plans for the cannabis industry.\n\nNathan Ea
 dy\, AICP -  Project Director &amp\; Vice President\, SCS Engineers \nMr.
  Eady is a Project Director and Vice President at SCS Engineers where he m
 anages a variety of land use planning and regulatory compliance projects. 
 He has 20 years of experience with permitting and subsequent operations ma
 nagement for complex facilities including oil and gas infrastructure\, hyd
 rogen production and distribution infrastructure\, and cannabis.\n\n\n\n\n
 Only online payments are being accepted at this time.\n\n\n\nPlease select
  only one Ticket Type.  If you need to register more than one person\, re
 gister each separately.
CATEGORIES:Monthly Meetings
END:VEVENT
BEGIN:VTIMEZONE
TZID:America/Chicago
X-LIC-LOCATION:America/Chicago
BEGIN:DAYLIGHT
DTSTART:20210314T030000
TZOFFSETFROM:-0600
TZOFFSETTO:-0500
TZNAME:CDT
END:DAYLIGHT
END:VTIMEZONE
END:VCALENDAR