BEGIN:VCALENDAR
VERSION:2.0
PRODID:-//wp-events-plugin.com//7.2.3.1//EN
TZID:America/Chicago
X-WR-TIMEZONE:America/Chicago
BEGIN:VEVENT
UID:106@midwestawma.org
DTSTART;TZID=America/Chicago:20210225T120000
DTEND;TZID=America/Chicago:20210225T133000
DTSTAMP:20210129T163413Z
URL:https://midwestawma.org/events/awma-online-february-2021-enviro-inspec
 tions/
SUMMARY:A&WMA ONLINE: February 2021 Monthly Meeting - Ace Your 2021 Environ
 mental Inspections
DESCRIPTION:Program details\n12:00pm - Presentation via Zoom\n\nLogin infor
 mation will be sent to participants 1 day prior to the event.\nAce Your 20
 21 Environmental Inspections:\nDuring the pandemic\, there has been a shif
 t in how agencies are completing inspections. Whether your next inspection
  is virtual\, socially distanced\, or a combination of both\, Abby will sh
 are tips and tricks on how to prepare for (and conquer!) your next inspect
 ion.\n\nAbby Perkins -  Senior Consultant\, Ramboll\n\nMs. Perkins specia
 lizes in air quality and multimedia compliance\, including auditing\, EPCR
 A reporting\, spill plans\, and more. She has served clients in many indus
 tries and works closely with agencies throughout the Midwest\, including K
 ansas\, Missouri\, Iowa\, and Nebraska.\n&nbsp\;\n\n\n\nOnly online paymen
 ts are being accepted at this time.\n\n\n\nPlease select only one Ticket T
 ype.  If you need to register more than one person\, register each separa
 tely.
CATEGORIES:Monthly Meetings
END:VEVENT
BEGIN:VTIMEZONE
TZID:America/Chicago
X-LIC-LOCATION:America/Chicago
BEGIN:STANDARD
DTSTART:20201101T010000
TZOFFSETFROM:-0500
TZOFFSETTO:-0600
TZNAME:CST
END:STANDARD
END:VTIMEZONE
END:VCALENDAR