BEGIN:VCALENDAR
VERSION:2.0
PRODID:-//wp-events-plugin.com//7.2.3.1//EN
TZID:America/Chicago
X-WR-TIMEZONE:America/Chicago
BEGIN:VEVENT
UID:109@midwestawma.org
DTSTART;TZID=America/Chicago:20210427T100000
DTEND;TZID=America/Chicago:20210427T113000
DTSTAMP:20210415T142813Z
URL:https://midwestawma.org/events/awma-online-april-2021-monthly-meeting-
 blue-river-biosolids/
SUMMARY:A&WMA ONLINE: April 2021 Monthly Meeting - Blue River Biosolids Imp
 rovement Project
DESCRIPTION:Program details\n10:00am - Presentation via Zoom\n\nLogin infor
 mation will be sent to participants 1 day prior to the event.\nBlue River 
 Biosolids Improvements Project\n\nThis presentation will review the City o
 f Kansas City\, MO Blue River Wastewater Treatment Plant Biosolids Improve
 ments Project.  This project kicked off in January 2021 and is a Design-B
 uild project to convert from incineration of biosolids to producing a bene
 ficial use product.  The new technology will be Thermal Hydrolysis Proces
 s (TPH) and when completed in 2024 the facility will be the largest in the
  Midwest and one of only nine THP facilities in the United States. The two
  byproducts the plant will produce include biosolids that can be utilized 
 for land application as a soil conditioner or fertilizer and biogas which 
 can be used as an energy source.  In addition to the environmental benefi
 ts\, the use of this process decreased the amount of sludge storage needed
  which saves the City costs over time.\n\nSuzie Carpenter\, P.E. -  Proje
 ct Manager\, Black &amp\; Veatch\n\nMs. Carpenter has over 20 years of exp
 erience in water and wastewater treatment plant and pumping station facili
 ties design. Her experience includes all aspects of projects from planning
  through construction utilizing CMAR\, Fixed Price\, Progressive Design Bu
 ild\, and Traditional Design Bid Build project delivery methods. Ms. Carpe
 nter has designed new facilities and led the design of retrofitted equipme
 nt into existing facilities. Ms. Carpenter is a licensed professional engi
 neer in Missouri\, Kansas\, Nebraska\, Iowa\, and Arkansas.\n&nbsp\;\n\n\n
 \nOnly online payments are being accepted at this time.\n\n\n\nPlease sele
 ct only one Ticket Type.  If you need to register more than one person\, 
 register each separately.
CATEGORIES:Monthly Meetings
END:VEVENT
BEGIN:VTIMEZONE
TZID:America/Chicago
X-LIC-LOCATION:America/Chicago
BEGIN:DAYLIGHT
DTSTART:20210314T030000
TZOFFSETFROM:-0600
TZOFFSETTO:-0500
TZNAME:CDT
END:DAYLIGHT
END:VTIMEZONE
END:VCALENDAR