BEGIN:VCALENDAR
VERSION:2.0
PRODID:-//wp-events-plugin.com//7.2.3.1//EN
TZID:America/Chicago
X-WR-TIMEZONE:America/Chicago
BEGIN:VEVENT
UID:115@midwestawma.org
DTSTART;TZID=America/Chicago:20210928T113000
DTEND;TZID=America/Chicago:20210928T164500
DTSTAMP:20210929T173157Z
URL:https://midwestawma.org/events/agency-panels-directors-air-waste-round
 tables/
SUMMARY:Agency Panels - Directors\, Air & Waste Roundtables
DESCRIPTION:Program details\n11:30am - 4:45pm - Presentation via Zoom. Logi
 n information will be sent to participants 1 day prior to the event.\nJoin
  us for these interactive panel sessions with Kansas\, Nebraska\, Iowa\, M
 issouri and EPA Region 7. Attendees can submit questions ahead of time\, o
 r ask questions at the event. A&amp\;WMA Members are $20\, Non-Members are
  $40.\nTuesday\, September 28\, 2021\n11:30am - 1:00pm:  Agency Director
 s Panel\nKatie Jo Wheeler\, Deputy Department Director\, Missouri Departme
 nt of Natural Resources\nJim Macy\, Director\, Nebraska Department of Envi
 ronment and Energy\nAmie Davidson\, Land Quality Bureau Chief\, Iowa Depar
 tment of Natural Resources\nJulie Coleman\, Division of Environment\, Kans
 as Department of Health and Environment\nEd Chu\, Acting Regional Administ
 rator\, EPA Region 7\nModerator: Kelli Calhoon\, Ramboll\n1:30pm - 3:00pm:
   Waste Roundtable\nMindy Bowman &amp\; Brian Burbeck\, Kansas Departmen
 t of Health and Environment\nChris Nagel\, Missouri Department of Natural 
 Resources\nAmie Davidson\, Iowa Department of Natural Resources\nJeffery E
 dwards\, Nebraska Department of Environment and Energy\nAmber Whisnant &am
 p\; Candace Bednar\, EPA Region 7\nModerator: Kristin Fritchman\, Energy T
 ransfer\n\n3:15pm - 4:45pm:  Air Roundtable\nRick Brunetti\, Kansas Depar
 tment of Health and Environment\nStephen Hall\, Missouri Department of Nat
 ural Resources\nJim McGraw\, Iowa Department of Natural Resources\nBrad Pr
 acheil &amp\; Shelley Schneider\, NDEE\nDana Skelley\, EPA Region 7\nModer
 ator: Stephanie Taylor\, SCS Engineers\n\n\n\n\nOnly online payments are b
 eing accepted at this time.\n\n\n\nPlease select only one Ticket Type.  I
 f you need to register more than one person\, register each separately.
CATEGORIES:Conference,Webinar
END:VEVENT
BEGIN:VTIMEZONE
TZID:America/Chicago
X-LIC-LOCATION:America/Chicago
BEGIN:DAYLIGHT
DTSTART:20210314T030000
TZOFFSETFROM:-0600
TZOFFSETTO:-0500
TZNAME:CDT
END:DAYLIGHT
END:VTIMEZONE
END:VCALENDAR