BEGIN:VCALENDAR
VERSION:2.0
PRODID:-//wp-events-plugin.com//7.2.3.1//EN
TZID:America/Chicago
X-WR-TIMEZONE:America/Chicago
BEGIN:VEVENT
UID:61@midwestawma.org
DTSTART;TZID=America/Chicago:20191205T173000
DTEND;TZID=America/Chicago:20191205T193000
DTSTAMP:20191030T153727Z
URL:https://midwestawma.org/events/7th-annual-holiday-social-with-awma-chm
 m-kcmba/
SUMMARY:7th Annual Holiday Social with AWMA\, CHMM & KCMBA
DESCRIPTION:[open_location_map]\n\n[ics_download]\nThe Midwest Section of A
 WMA\, the Heartland Chapter of the Certified Hazardous Material Managers (
 CHMM) and the Kansas City Missouri Bar Association (KCMBA) Environment and
  Energy Committee co-host this annual holiday social.\n\nJoin us on Decemb
 er 5\, 2019 from 5:30-7:30pm at Spencer Fane\, 1000 Walnut St\, Ste. 1400\
 , Kansas City\, MO for food\, beverages and socializing!\n\nStreet Parking
  is available\, or park at the Tower Garage at 910 Walnut Street and your 
 ticket will be validated.\n\n&nbsp\;\n\n&nbsp\;
CATEGORIES:Social Events
LOCATION:Spencer Fane - Downtown\, 1000 Walnut Street\, Suite 1400\, Kansas
  City\, MO\, 64106\, United States
GEO:39.102145;-94.582504
X-APPLE-STRUCTURED-LOCATION;VALUE=URI;X-ADDRESS=1000 Walnut Street\, Suite 
 1400\, Kansas City\, MO\, 64106\, United States;X-APPLE-RADIUS=100;X-TITLE
 =Spencer Fane - Downtown:geo:39.102145,-94.582504
END:VEVENT
BEGIN:VTIMEZONE
TZID:America/Chicago
X-LIC-LOCATION:America/Chicago
BEGIN:STANDARD
DTSTART:20191103T010000
TZOFFSETFROM:-0500
TZOFFSETTO:-0600
TZNAME:CST
END:STANDARD
END:VTIMEZONE
END:VCALENDAR