BEGIN:VCALENDAR
VERSION:2.0
PRODID:-//wp-events-plugin.com//7.2.3.1//EN
TZID:America/Chicago
X-WR-TIMEZONE:America/Chicago
BEGIN:VEVENT
UID:163@midwestawma.org
DTSTART;TZID=America/Chicago:20251015T173000
DTEND;TZID=America/Chicago:20251015T193000
DTSTAMP:20250929T201231Z
URL:https://midwestawma.org/events/2025fallsocial/
SUMMARY:2025 Fall Social - Barleys Midland
DESCRIPTION:\n\nThe A&amp\;WMA Midwest Section is hosting our Fall Social a
 t Barley's Kitchen + Tap in Shawnee!\n\nEnjoy the October evening and catc
 h up with your colleagues at this casual social and networking event! Atte
 ndees will enjoy appetizers and beverages provided by the A&amp\;WMA.\n\nP
 lease register as early as possible so that we can ensure that we have eno
 ugh table space reserved.\n\n&nbsp\;\n\n\n\n&nbsp\;
CATEGORIES:Social Events
LOCATION:Barley's Kitchen + Tap (Midland)\, 16649 Midland Dr\, Shawnee\, KS
 \, 66217\, United States
X-APPLE-STRUCTURED-LOCATION;VALUE=URI;X-ADDRESS=16649 Midland Dr\, Shawnee\
 , KS\, 66217\, United States;X-APPLE-RADIUS=100;X-TITLE=Barley's Kitchen +
  Tap (Midland):geo:0,0
END:VEVENT
BEGIN:VTIMEZONE
TZID:America/Chicago
X-LIC-LOCATION:America/Chicago
BEGIN:DAYLIGHT
DTSTART:20250309T030000
TZOFFSETFROM:-0600
TZOFFSETTO:-0500
TZNAME:CDT
END:DAYLIGHT
END:VTIMEZONE
END:VCALENDAR