BEGIN:VCALENDAR
VERSION:2.0
PRODID:-//wp-events-plugin.com//7.2.3.1//EN
TZID:America/Chicago
X-WR-TIMEZONE:America/Chicago
BEGIN:VEVENT
UID:145@midwestawma.org
DTSTART;TZID=America/Chicago;VALUE=DATE:20240131
DTEND;TZID=America/Chicago;VALUE=DATE:20240201
DTSTAMP:20231201T200705Z
URL:https://midwestawma.org/events/2024-scholarship-application-due/
SUMMARY:2024 Scholarship Application Due
DESCRIPTION:We are now accepting applications for our 2024 Scholarship!  A
 pplications are due on January 31\, 2024.  Please visit the Scholarships 
 page to find the application.
CATEGORIES:Scholarship
LOCATION:https://midwestawma.org
END:VEVENT
BEGIN:VTIMEZONE
TZID:America/Chicago
X-LIC-LOCATION:America/Chicago
BEGIN:STANDARD
DTSTART:20231105T010000
TZOFFSETFROM:-0500
TZOFFSETTO:-0600
TZNAME:CST
END:STANDARD
END:VTIMEZONE
END:VCALENDAR