BEGIN:VCALENDAR
VERSION:2.0
PRODID:-//wp-events-plugin.com//7.2.3.1//EN
TZID:America/Chicago
X-WR-TIMEZONE:America/Chicago
BEGIN:VEVENT
UID:103@midwestawma.org
DTSTART;TZID=America/Chicago;VALUE=DATE:20201215
DTEND;TZID=America/Chicago;VALUE=DATE:20201216
DTSTAMP:20201116T200812Z
URL:https://midwestawma.org/events/2021-scholarship-application-due/
SUMMARY:2021 Scholarship Application Due
DESCRIPTION:We are now accepting applications for our 2021 Scholarship!  A
 pplications are due on December 15th.  Please visit the Scholarships page
  to find the application.
CATEGORIES:Scholarship
LOCATION:https://midwestawma.org
END:VEVENT
BEGIN:VTIMEZONE
TZID:America/Chicago
X-LIC-LOCATION:America/Chicago
BEGIN:STANDARD
DTSTART:20201101T010000
TZOFFSETFROM:-0500
TZOFFSETTO:-0600
TZNAME:CST
END:STANDARD
END:VTIMEZONE
END:VCALENDAR