BEGIN:VCALENDAR
VERSION:2.0
PRODID:-//wp-events-plugin.com//7.2.3.1//EN
TZID:America/Chicago
X-WR-TIMEZONE:America/Chicago
BEGIN:VEVENT
UID:118@midwestawma.org
DTSTART;TZID=America/Chicago:20211216T160000
DTEND;TZID=America/Chicago:20211216T164500
DTSTAMP:20230118T025608Z
URL:https://midwestawma.org/events/2021-holiday-event/
SUMMARY:2021 Holiday Event
DESCRIPTION:\nIn lieu of a holiday event\, let's give back!\nJoin Midwest A
 WMA &amp\; Heartland AHMP for a virtual Smile Farm Tour\nIn lieu of a holi
 day social event this year\, Midwest A&amp\;WMA and the Heartland AHMP are
  taking the opportunity to learn and give back! Join us for a virtual tour
  of Animal Assisted Happiness\, a nonprofit organization that enriches the
  lives of youth with needs through barnyard animal interactions and mobile
  visits. We will meet some animals virtually and learn more about this c
 ool organization!\nFeel free to have your family\, kids\, &amp\; friends j
 oin you to login to the event and meet the animals in the barnyard. No reg
 istration fee\, but we request a donation of $5 per login that will go di
 rectly to AAH.\nProgram details\nThursday\, December 16\, 2021\n\n4:00pm 
 - 4:45pm - Presentation via Zoom. Login information will be sent to partic
 ipants 1 day prior to the event.\nSuggested donation of $5. All donations 
 will support Animal Assisted Happiness. After registration\, click on the 
 PayPal link and donations can be submitted directly through our PayPal acc
 ount. Midwest A&amp\;WMA will provide all donations to AAH.\n\n\n\n\nAnima
 l Assisted Happiness\nFounded in 2009\, the mission of Animal Assisted Hap
 piness is to enrich the lives of youth with needs through barnyard animal 
 interactions at their Smile Farm and mobile visits\, creating moments of j
 oy and happiness throughout their AAH community. Uniquely situated in the 
 heart of Silicon Valley\, AAH provides barnyard buddies so children and th
 eir family members can 'experience the smiles only animals can bring'. The
 ir vision is a "Million Smiles". AAH is 100% funded by donations and grant
 s and largely operate with their large network of volunteers.\n\n\n\n&nbsp
 \;
CATEGORIES:Social Events
END:VEVENT
BEGIN:VTIMEZONE
TZID:America/Chicago
X-LIC-LOCATION:America/Chicago
BEGIN:STANDARD
DTSTART:20211107T010000
TZOFFSETFROM:-0500
TZOFFSETTO:-0600
TZNAME:CST
END:STANDARD
END:VTIMEZONE
END:VCALENDAR