BEGIN:VCALENDAR
VERSION:2.0
PRODID:-//wp-events-plugin.com//7.2.3.1//EN
TZID:America/Chicago
X-WR-TIMEZONE:America/Chicago
BEGIN:VEVENT
UID:105@midwestawma.org
DTSTART;TZID=America/Chicago:20210211T170000
DTEND;TZID=America/Chicago:20210211T180000
DTSTAMP:20210126T152954Z
URL:https://midwestawma.org/events/2021-awma-ahmp-trivia/
SUMMARY:Heartland AHMP & Midwest AWMA 2021 Valentine's Day Happy Hour
DESCRIPTION:The Heartland AHMP and A&amp\;WMA Midwest Section invite you to
  join us for a Virtual Valentine's Day Trivia Happy Hour!  Join other env
 ironmental professionals for this fun social and networking event - feel f
 ree to bring a beverage to enjoy during the online event. We will have a f
 un game with a mix of environmental and Valentine's Day trivia.\n\nYou don
 't need to be an A&amp\;WMA member or Heartland AHMP member to attend.\n\n
 Login information will be sent 1 day ahead of the event.\n\n\n\n\n&nbsp\;
ATTACH;FMTTYPE=image/jpeg:https://midwestawma.org/wp-content/uploads/2021/
 01/Heartland-AHMP-Midwest-AWMA-1-small.jpg
CATEGORIES:Social Events
END:VEVENT
BEGIN:VTIMEZONE
TZID:America/Chicago
X-LIC-LOCATION:America/Chicago
BEGIN:STANDARD
DTSTART:20201101T010000
TZOFFSETFROM:-0500
TZOFFSETTO:-0600
TZNAME:CST
END:STANDARD
END:VTIMEZONE
END:VCALENDAR