BEGIN:VCALENDAR
VERSION:2.0
PRODID:-//wp-events-plugin.com//7.2.3.1//EN
TZID:America/Chicago
X-WR-TIMEZONE:America/Chicago
BEGIN:VEVENT
UID:90@midwestawma.org
DTSTART;TZID=America/Chicago:20200923T103000
DTEND;TZID=America/Chicago:20200923T120000
DTSTAMP:20200904T155807Z
URL:https://midwestawma.org/events/2020-virtual-conference-waste-roundtabl
 e/
SUMMARY:2020 Virtual Conference: Waste Roundtable
DESCRIPTION:Program details\nOur fourth webinar of the 2020 Virtual Confere
 nce will be a Waste Roudtable with updates from EPA\, KDHE\, MDNR\, IDNR\,
  and NDEE.\n\n10:30 am - Presentations via Webinar\n\nSpeakers include:\n\
 n 	Mindy Bowman\, Solid Waste Section Chief\, Bureau of Waste Management\,
  KDHE\n 	Chris Nagel\, Director\, Solid Waste Management Program\, MDNR\n 
 	John Jurgensmeyer\, Director\, Environmental Remediation Program\, MDNR\n
  	Amie Davidson\, Bureau Chief\, Solid Waste Section\, IDNR\n 	Erik Waiss\
 , Environmental Assistance Coordinator\, Waste Management Section\, NDEE\n
  	Ed Buckner\, Acting RCRA Section Chief\, Enforcement &amp\; Compliance A
 ssurance Division\, EPA Region 7\n 	Candace Bednar\, Chemical Branch Chief
 \, Enforcement &amp\; Compliance Assurance Division\, EPA Region 7\n\nLogi
 n information will be sent to participants 1 day prior to the event.\n2020
  Virtual Conference\nOur 28th Annual Technical Conference will be held vir
 tually over a series of 4 webinars throughout September 2020 with our typi
 cal "1st Day" conference events: Directors Forum (2 events)\, Air Roundtab
 le\, and Waste Roundtable.\n\nRegistration links for the other days of our
  virtual conference are below:\n\nDirectors Forum Part 1 - September 2\, 2
 020\n\nDirectors Forum Part 2 - September 9\, 2020\n\nAir Roundtable - Sep
 tember 16\, 2020\n\nJoin us!\n\n&nbsp\;\n\n\n\nOnly online payments are be
 ing accepted at this time.\n\n\n\nPlease select only one Ticket Type.  If
  you need to register more than one person\, register each separately.
CATEGORIES:Conference
LOCATION:https://midwestawma.org
END:VEVENT
BEGIN:VTIMEZONE
TZID:America/Chicago
X-LIC-LOCATION:America/Chicago
BEGIN:DAYLIGHT
DTSTART:20200308T030000
TZOFFSETFROM:-0600
TZOFFSETTO:-0500
TZNAME:CDT
END:DAYLIGHT
END:VTIMEZONE
END:VCALENDAR