BEGIN:VCALENDAR
VERSION:2.0
PRODID:-//wp-events-plugin.com//7.2.3.1//EN
TZID:America/Chicago
X-WR-TIMEZONE:America/Chicago
BEGIN:VEVENT
UID:88@midwestawma.org
DTSTART;TZID=America/Chicago:20200909T100000
DTEND;TZID=America/Chicago:20200909T120000
DTSTAMP:20200818T170127Z
URL:https://midwestawma.org/events/2020-virtual-conference-directors-forum
 -part-2-kdhe-mdnr/
SUMMARY:2020 Virtual Conference: Directors Forum Part 2 - KDHE\, MDNR\, & N
 DEE
DESCRIPTION:Program details\nOur second webinar of the 2020 Virtual Confere
 nce will include updates from Directors at KDHE\, MDNR\, &amp\; NDEE.\n\n1
 0:00 am - Presentations via Webinar\n\nSpeakers include:\n\n 	Julie Colema
 n\, Director\, Bureau of Waste Management\, KDHE\n 	Katie Jo Wheeler\, Dep
 uty Department Director\, MDNR\n 	Jim Macy\, Director\, NDEE\n\nLogin info
 rmation will be sent to participants 1 day prior to the event.\n2020 Virtu
 al Conference\nOur 28th Annual Technical Conference will be held virtually
  over a series of 4 webinars throughout September 2020 with our typical "1
 st Day" conference events: Directors Forum (2 events)\, Air Roundtable\, a
 nd Waste Roundtable.\n\nRegistration links for the other days of our virtu
 al conference are below:\n\nDirectors Forum Part 1 - September 2\, 2020\n\
 nAir Roundtable - September 16\, 2020\n\nWaste Roundtable - September 23\,
  2020\n\nJoin us!\n\n&nbsp\;\n\n\n\nOnly online payments are being accepte
 d at this time.\n\n\n\nPlease select only one Ticket Type.  If you need t
 o register more than one person\, register each separately.
CATEGORIES:Conference
LOCATION:https://midwestawma.org
END:VEVENT
BEGIN:VTIMEZONE
TZID:America/Chicago
X-LIC-LOCATION:America/Chicago
BEGIN:DAYLIGHT
DTSTART:20200308T030000
TZOFFSETFROM:-0600
TZOFFSETTO:-0500
TZNAME:CDT
END:DAYLIGHT
END:VTIMEZONE
END:VCALENDAR