BEGIN:VCALENDAR
VERSION:2.0
PRODID:-//wp-events-plugin.com//7.2.3.1//EN
TZID:America/Chicago
X-WR-TIMEZONE:America/Chicago
BEGIN:VEVENT
UID:87@midwestawma.org
DTSTART;TZID=America/Chicago:20200902T100000
DTEND;TZID=America/Chicago:20200902T113000
DTSTAMP:20200818T170013Z
URL:https://midwestawma.org/events/2020-virtual-conference-directors-forum
 -part-1-epa-idnr-ndee/
SUMMARY:2020 Virtual Conference: Directors Forum Part 1 - EPA & IDNR
DESCRIPTION:Program details\nOur first webinar of the 2020 Virtual Conferen
 ce will include updates from Directors at EPA &amp\; IDNR.\n\n10:00 am - P
 resentations via Webinar\n\nSpeakers include:\n\n 	Jim Gulliford\, Regiona
 l Administrator\, EPA Region 7\n 	Ed Tormey\, Administrator\, Environmenta
 l Services Division\, IDNR\n\nLogin information will be sent to participan
 ts 1 day prior to the event.\n2020 Virtual Conference\nOur 28th Annual Tec
 hnical Conference will be held virtually over a series of 4 webinars throu
 ghout September 2020 with our typical "1st Day" conference events: Directo
 rs Forum (2 events)\, Air Roundtable\, and Waste Roundtable.\n\nRegistrati
 on links for the other days of our virtual conference are below:\n\nDirect
 ors Forum Part 2 - September 9\, 2020\n\nAir Roundtable - September 16\, 2
 020\n\nWaste Roundtable - September 23\, 2020\n\nJoin us!\n\n&nbsp\;\n\n\n
 \nOnly online payments are being accepted at this time.\n\n\n\nPlease sele
 ct only one Ticket Type.  If you need to register more than one person\, 
 register each separately.
CATEGORIES:Conference
LOCATION:https://midwestawma.org
END:VEVENT
BEGIN:VTIMEZONE
TZID:America/Chicago
X-LIC-LOCATION:America/Chicago
BEGIN:DAYLIGHT
DTSTART:20200308T030000
TZOFFSETFROM:-0600
TZOFFSETTO:-0500
TZNAME:CDT
END:DAYLIGHT
END:VTIMEZONE
END:VCALENDAR