BEGIN:VCALENDAR
VERSION:2.0
PRODID:-//wp-events-plugin.com//7.2.3.1//EN
TZID:America/Chicago
X-WR-TIMEZONE:America/Chicago
BEGIN:VEVENT
UID:89@midwestawma.org
DTSTART;TZID=America/Chicago:20200916T103000
DTEND;TZID=America/Chicago:20200916T120000
DTSTAMP:20200717T160423Z
URL:https://midwestawma.org/events/2020-virtual-conference-air-roundtable/
SUMMARY:2020 Virtual Conference: Air Roundtable
DESCRIPTION:Program details\nOur third webinar of the 2020 Virtual Conferen
 ce will be an Air Roudtable with updates from EPA\, KDHE\, MDNR\, IDNR\, a
 nd NDEE.\n\n10:30 am - Presentations via Webinar\n\nSpeakers include:\n\n 
 	Catharine Fitzsimmons\, Chief\, Air Quality Bureau\, IDNR\n 	Rick Brunett
 i\, Director\, Bureau of Air\, KDHE\n 	Kevin Stoner\, Administrator\, Air 
 Quality Division\, NDEE\n 	Darcy Bybee\, Director\, Air Pollution Control 
 Program\, MDNR\n 	Dana Skelley\, Director\, Air and Radiation Division\, E
 PA Region 7\n\nLogin information will be sent to participants 1 day prior 
 to the event.\n2020 Virtual Conference\nOur 28th Annual Technical Conferen
 ce will be held virtually over a series of 4 webinars throughout September
  2020 with our typical "1st Day" conference events: Directors Forum (2 eve
 nts)\, Air Roundtable\, and Waste Roundtable.\n\nRegistration links for th
 e other days of our virtual conference are below:\n\nDirectors Forum Part 
 1 - September 2\, 2020\n\nDirectors Forum Part 2 - September 9\, 2020\n\nW
 aste Roundtable - September 23\, 2020\n\nJoin us!\n\n&nbsp\;\n\n\n\nOnly o
 nline payments are being accepted at this time.\n\n\n\nPlease select only 
 one Ticket Type.  If you need to register more than one person\, register
  each separately.
CATEGORIES:Conference
LOCATION:https://midwestawma.org
END:VEVENT
BEGIN:VTIMEZONE
TZID:America/Chicago
X-LIC-LOCATION:America/Chicago
BEGIN:DAYLIGHT
DTSTART:20200308T030000
TZOFFSETFROM:-0600
TZOFFSETTO:-0500
TZNAME:CDT
END:DAYLIGHT
END:VTIMEZONE
END:VCALENDAR