BEGIN:VCALENDAR
VERSION:2.0
PRODID:-//wp-events-plugin.com//7.2.3.1//EN
TZID:America/Chicago
X-WR-TIMEZONE:America/Chicago
BEGIN:VEVENT
UID:113@midwestawma.org
DTSTART;TZID=America/Chicago:20210924T074500
DTEND;TZID=America/Chicago:20210924T160000
DTSTAMP:20210806T023947Z
URL:https://midwestawma.org/events/19th-annual-ahmp-heartland-chapter-golf
 -tournament/
SUMMARY:19th Annual AHMP Heartland Chapter Golf Tournament
DESCRIPTION:\n2021 AHMP Annual Golf Tournament\n&nbsp\;\n\n\n\n\nPlease con
 sider supporting our partner organization\, AHMP.\n\nProceeds Benefit the 
 Alliance of Hazardous Materials Professionals (AHMP) Heartland Chapter Sch
 olarship Fund\n\nFor more information and to register:\n\n\nhttp://heartla
 ndchmm.org/2020-annual-golf-tournament/\n\n&nbsp\;
CATEGORIES:External
LOCATION:Paradise Pointe Golf Club\, 18212 Golf Dr.\, Smithville\, MO\, 640
 89\, United States
GEO:39.386944;-94.581066
X-APPLE-STRUCTURED-LOCATION;VALUE=URI;X-ADDRESS=18212 Golf Dr.\, Smithville
 \, MO\, 64089\, United States;X-APPLE-RADIUS=100;X-TITLE=Paradise Pointe G
 olf Club:geo:39.386944,-94.581066
END:VEVENT
BEGIN:VTIMEZONE
TZID:America/Chicago
X-LIC-LOCATION:America/Chicago
BEGIN:DAYLIGHT
DTSTART:20210314T030000
TZOFFSETFROM:-0600
TZOFFSETTO:-0500
TZNAME:CDT
END:DAYLIGHT
END:VTIMEZONE
END:VCALENDAR